Workbook

Sheet Portada
B1: CALCULA OBRA CHILE
B2: Planificacion y Cronograma de Obra
B3: www.calculaobrachile.com | contacto@calculaobrachile.com
A7: CARTA GANTT CON DEPENDENCIAS Y RUTA CRITICA
A8: CONFIGURACION Y RESUMEN DEL PROYECTO
A10: PROYECTO: | C10: Escribe el nombre de tu proyecto
A11: DIRECCION: | C11: Comuna, Region
A12: MANDANTE / PROPIETARIO: | C12: Nombre del mandante
A13: UNIDAD DE TIEMPO: | C13: Semanas
A14: FECHA DE INICIO (obra): | C14: 46235
A15: FECHA DE HOY (automatica): | C15: =TODAY() -> 46219
A17: DURACION TOTAL DE LA OBRA | D17: =Cronograma!$H$46 -> 23 | E17: =Portada!$C$13 -> Semanas
A18: FECHA ESTIMADA DE TERMINO | D18: =IF(Portada!$C$13="Dias",Portada!$C$14+Cronograma!$H$46-1,IF(Portada!$C$13="Semanas",Portada!$C$14+Cronograma!$H$46*7-1,EDATE(Portada!$C$14,Cronograma!$H$46)-1)) -> 46395
A19: N de tareas en la ruta critica | D19: =COUNTIF(Cronograma!K6:K45,"SI") -> 15
A20: N total de tareas | D20: =COUNT(Cronograma!A6:A45) -> 19
A21: AVANCE GLOBAL DE LA OBRA | D21: =IFERROR(SUMPRODUCT(Cronograma!D6:D45*Cronograma!F6:F45)/SUM(Cronograma!D6:D45),0) -> 0.13793103
A22: Tareas con errores (revisar CHEQUEO) | D22: =SUMPRODUCT((Cronograma!N6:N45<>"")*(Cronograma!N6:N45<>"OK")) -> 0
A24: La ruta critica agrupa las tareas con holgura cero: si cualquiera se atrasa, se atrasa la entrega completa. Cambia unidad y fecha arriba; el cronograma, las fechas reales y el avance se recalculan solos. Si es tu primera vez, abre la hoja Instrucciones.
C26: Tarea normal (pendiente)
C27: Parte ya completada (segun % avance)
C28: Tarea critica (no puede atrasarse)
C29: Celda que tu editas

Sheet Instrucciones
A1: CALCULA OBRA CHILE | PLANIFICACION Y CRONOGRAMA DE OBRA
A2: COMO USAR ESTA PLANTILLA - PASO A PASO
B5: QUE HACE ESTA PLANTILLA
B6: Arma la carta Gantt de tu obra, calcula las fechas reales, muestra el avance y te dice cuales tareas son criticas (las que, si se atrasan, atrasan la entrega completa). Tu escribes; todo lo demas se calcula solo.
B8: PASO 1 - Configura en la hoja "Portada"
B9: - Escribe el nombre del proyecto, direccion y mandante.
B10: - Elige la UNIDAD DE TIEMPO en el desplegable: Dias, Semanas o Meses.
B11: - Pon la FECHA DE INICIO real de la obra. Con eso la plantilla calcula las fechas de cada tarea.
B13: PASO 2 - Escribe tus tareas en la hoja "Cronograma" (solo celdas amarillas)
B14: - ID: numero correlativo unico (1, 2, 3...). No repitas numeros.
B15: - TAREA: el nombre de la partida.
B16: - FASE: agrupador (Preliminares, Obra Gruesa, Instalaciones, Terminaciones, Entrega).
B17: - DURACION: cuantos periodos dura (segun la unidad elegida).
B18: - PREDECESORA: el ID de la tarea que debe terminar ANTES de que esta empiece. En blanco si parte de inmediato.
... B38: - Si algo aparece en rojo en la columna CHEQUEO, corrige esa fila.

Sheet Cronograma
A1: CALCULA OBRA CHILE | PLANIFICACION Y CRONOGRAMA DE OBRA
A2: CARTA GANTT CON DEPENDENCIAS, RUTA CRITICA Y AVANCE
A3: Escribe SOLO en las columnas amarillas. Todo lo demas se calcula solo. Cambia la unidad de tiempo y la fecha de inicio en la hoja Portada. Si es tu primera vez, revisa la hoja Instrucciones.
F4: =" Unidad de tiempo actual: "&Portada!$C$13 -> Unidad de tiempo actual: Semanas
A5: ID | B5: TAREA | C5: FASE | D5: DURACION | E5: PREDEC. (ID) | F5: % AVANCE | G5: INICIO | H5: TERMINO | I5: LF | J5: HOLGURA | K5: RUTA CRITICA | L5: FECHA INICIO | M5: FECHA TERMINO | N5: CHEQUEO | O5: 1 | P5: 2 | Q5: 3 | R5: 4 | S5: 5 | T5: 6 | U5: 7 | V5: 8 | W5: 9 | X5: 10 | Y5: 11 | Z5: 12 | AA5: 13 | AB5: 14 | AC5: 15 | AD5: 16 | AE5: 17 | AF5: 18 | AG5: 19 | AH5: 20 | AI5: 21 | AJ5: 22 | AK5: 23 | AL5: 24 | AM5: 25 | AN5: 26 | AO5: 27 | AP5: 28 | AQ5: 29 | AR5: 30
A6: 1 | B6: Instalacion de faenas y cierre de obra | C6: Preliminares | D6: 1 | F6: 1 | G6: =IF(A6<>"",IF(E6="",1,IFERROR(INDEX($H$6:$H$45,MATCH(E6,$A$6:$A$45,0))+1,1)),"") -> 1 | H6: =IF(A6<>"",G6+D6-1,"") -> 1 | I6: {=IF(A6<>"",IF(COUNTIF($E$6:$E$45,A6)=0,MAX($H$6:$H$45),IFERROR(MIN(IF($E$6:$E$45=A6,($I$6:$I$45-$D$6:$D$45+1))),MAX($H$6:$H$45)+1)-1),"")} -> 1 | J6: =IF(A6<>"",I6-H6,"") -> 0 | K6: =IF(A6<>"",IF(J6=0,"SI","no"),"") -> SI | L6: =IF(A6<>"",IF(Portada!$C$13="Dias",Portada!$C$14+(G6-1),IF(Portada!$C$13="Semanas",Portada!$C$14+(G6-1)*7,EDATE(Portada!$C$14,(G6-1)))),"") -> 46235 | M6: =IF(A6<>"",IF(Portada!$C$13="Dias",Portada!$C$14+(H6)-1,IF(Portada!$C$13="Semanas",Portada!$C$14+(H6)*7-1,EDATE(Portada!$C$14,(H6))-1)),"") -> 46241 | N6: =IF(A6<>"",IF(COUNTIF($A$6:$A$45,A6)>1,"ID repetido",IF(AND(E6<>"",E6=A6),"Predec. = si misma",IF(AND(E6<>"",COUNTIF($A$6:$A$45,E6)=0),"Predec. no existe",IF(OR(D6="",D6<=0),"Falta duracion",IF(B6="","Falta nombre","OK"))))),"") -> OK | O6: =IF(A6<>"",IF(AND(1>=$G6,1<=$H6),IF(1<=$G6+ROUND($F6*$D6,0)-1,2,1),""),"") -> 2 | P6: =IF(A6<>"",IF(AND(2>=$G6,2<=$H6),IF(2<=$G6+ROUND($F6*$D6,0)-1,2,1),""),"") | Q6: =IF(A6<>"",IF(AND(3>=$G6,3<=$H6),IF(3<=$G6+ROUND($F6*$D6,0)-1,2,1),""),"") | R6: =IF(A6<>"",IF(AND(4>=$G6,4<=$H6),IF(4<=$G6+ROUND($F6*$D6,0)-1,2,1),""),"") | S6: =IF(A6<>"",IF(AND(5>=$G6,5<=$H6),IF(5<=$G6+ROUND($F6*$D6,0)-1,2,1),""),"") | T6: =IF(A6<>"",IF(AND(6>=$G6,6<=$H6),IF(6<=$G6+ROUND($F6*$D6,0)-1,2,1),""),"") | U6: =IF(A6<>"",IF(AND(7>=$G6,7<=$H6),IF(7<=$G6+ROUND($F6*$D6,0)-1,2,1),""),"") | V6: =IF(A6<>"",IF(AND(8>=$G6,8<=$H6),IF(8<=$G6+ROUND($F6*$D6,0)-1,2,1),""),"") | W6: =IF(A6<>"",IF(AND(9>=$G6,9<=$H6),IF(9<=$G6+ROUND($F6*$D6,0)-1,2,1),""),"") | X6: =IF(A6<>"",IF(AND(10>=$G6,10<=$H6),IF(10<=$G6+ROUND($F6*$D6,0)-1,2,1),""),"") | Y6: =IF(A6<>"",IF(AND(11>=$G6,11<=$H6),IF(11<=$G6+ROUND($F6*$D6,0)-1,2,1),""),"") | Z6: =IF(A6<>"",IF(AND(12>=$G6,12<=$H6),IF(12<=$G6+ROUND($F6*$D6,0)-1,2,1),""),"") | AA6: =IF(A6<>"",IF(AND(13>=$G6,13<=$H6),IF(13<=$G6+ROUND($F6*$D6,0)-1,2,1),""),"") | AB6: =IF(A6<>"",IF(AND(14>=$G6,14<=$H6),IF(14<=$G6+ROUND($F6*$D6,0)-1,2,1),""),"") | AC6: =IF(A6<>"",IF(AND(15>=$G6,15<=$H6),IF(15<=$G6+ROUND($F6*$D6,0)-1,2,1),""),"") | AD6: =IF(A6<>"",IF(AND(16>=$G6,16<=$H6),IF(16<=$G6+ROUND($F6*$D6,0)-1,2,1),""),"") | AE6: =IF(A6<>"",IF(AND(17>=$G6,17<=$H6),IF(17<=$G6+ROUND($F6*$D6,0)-1,2,1),""),"") | AF6: =IF(A6<>"",IF(AND(18>=$G6,18<=$H6),IF(18<=$G6+ROUND($F6*$D6,0)-1,2,1),""),"") | AG6: =IF(A6<>"",IF(AND(19>=$G6,19<=$H6),IF(19<=$G6+ROUND($F6*$D6,0)-1,2,1),""),"") | AH6: =IF(A6<>"",IF(AND(20>=$G6,20<=$H6),IF(20<=$G6+ROUND($F6*$D6,0)-1,2,1),""),"") | AI6: =IF(A6<>"",IF(AND(21>=$G6,21<=$H6),IF(21<=$G6+ROUND($F6*$D6,0)-1,2,1),""),"") | AJ6: =IF(A6<>"",IF(AND(22>=$G6,22<=$H6),IF(22<=$G6+ROUND($F6*$D6,0)-1,2,1),""),"") | AK6: =IF(A6<>"",IF(AND(23>=$G6,23<=$H6),IF(23<=$G6+ROUND($F6*$D6,0)-1,2,1),""),"") | AL6: =IF(A6<>"",IF(AND(24>=$G6,24<=$H6),IF(24<=$G6+ROUND($F6*$D6,0)-1,2,1),""),"") | AM6: =IF(A6<>"",IF(AND(25>=$G6,25<=$H6),IF(25<=$G6+ROUND($F6*$D6,0)-1,2,1),""),"") | AN6: =IF(A6<>"",IF(AND(26>=$G6,26<=$H6),IF(26<=$G6+ROUND($F6*$D6,0)-1,2,1),""),"") | AO6: =IF(A6<>"",IF(AND(27>=$G6,27<=$H6),IF(27<=$G6+ROUND($F6*$D6,0)-1,2,1),""),"") | AP6: =IF(A6<>"",IF(AND(28>=$G6,28<=$H6),IF(28<=$G6+ROUND($F6*$D6,0)-1,2,1),""),"") | AQ6: =IF(A6<>"",IF(AND(29>=$G6,29<=$H6),IF(29<=$G6+ROUND($F6*$D6,0)-1,2,1),""),"") | AR6: =IF(A6<>"",IF(AND(30>=$G6,30<=$H6),IF(30<=$G6+ROUND($F6*$D6,0)-1,2,1),""),"")
A7: 2 | B7: Trazado y niveles | C7: Preliminares | D7: 1 | E7: 1 | F7: 1 | G7: =IF(A7<>"",IF(E7="",1,IFERROR(INDEX($H$6:$H$45,MATCH(E7,$A$6:$A$45,0))+1,1)),"") -> 2 | H7: =IF(A7<>"",G7+D7-1,"") -> 2 | I7: {=IF(A7<>"",IF(COUNTIF($E$6:$E$45,A7)=0,MAX($H$6:$H$45),IFERROR(MIN(IF($E$6:$E$45=A7,($I$6:$I$45-$D$6:$D$45+1))),MAX($H$6:$H$45)+1)-1),"")} -> 2 | J7: =IF(A7<>"",I7-H7,"") -> 0 | K7: =IF(A7<>"",IF(J7=0,"SI","no"),"") -> SI | L7: =IF(A7<>"",IF(Portada!$C$13="Dias",Portada!$C$14+(G7-1),IF(Portada!$C$13="Semanas",Portada!$C$14+(G7-1)*7,EDATE(Portada!$C$14,(G7-1)))),"") -> 46242 | M7: =IF(A7<>"",IF(Portada!$C$13="Dias",Portada!$C$14+(H7)-1,IF(Portada!$C$13="Semanas",Portada!$C$14+(H7)*7-1,EDATE(Portada!$C$14,(H7))-1)),"") -> 46248 | N7: =IF(A7<>"",IF(COUNTIF($A$6:$A$45,A7)>1,"ID repetido",IF(AND(E7<>"",E7=A7),"Predec. = si misma",IF(AND(E7<>"",COUNTIF($A$6:$A$45,E7)=0),"Predec. no existe",IF(OR(D7="",D7<=0),"Falta duracion",IF(B7="","Falta nombre","OK"))))),"") -> OK | O7: =IF(A7<>"",IF(AND(1>=$G7,1<=$H7),IF(1<=$G7+ROUND($F7*$D7,0)-1,2,1),""),"") | P7: =IF(A7<>"",IF(AND(2>=$G7,2<=$H7),IF(2<=$G7+ROUND($F7*$D7,0)-1,2,1),""),"") -> 2 | Q7: =IF(A7<>"",IF(AND(3>=$G7,3<=$H7),IF(3<=$G7+ROUND($F7*$D7,0)-1,2,1),""),"") | R7: =IF(A7<>"",IF(AND(4>=$G7,4<=$H7),IF(4<=$G7+ROUND($F7*$D7,0)-1,2,1),""),"") | S7: =IF(A7<>"",IF(AND(5>=$G7,5<=$H7),IF(5<=$G7+ROUND($F7*$D7,0)-1,2,1),""),"") | T7: =IF(A7<>"",IF(AND(6>=$G7,6<=$H7),IF(6<=$G7+ROUND($F7*$D7,0)-1,2,1),""),"") | U7: =IF(A7<>"",IF(AND(7>=$G7,7<=$H7),IF(7<=$G7+ROUND($F7*$D7,0)-1,2,1),""),"") | V7: =IF(A7<>"",IF(AND(8>=$G7,8<=$H7),IF(8<=$G7+ROUND($F7*$D7,0)-1,2,1),""),"") | W7: =IF(A7<>"",IF(AND(9>=$G7,9<=$H7),IF(9<=$G7+ROUND($F7*$D7,0)-1,2,1),""),"") | X7: =IF(A7<>"",IF(AND(10>=$G7,10<=$H7),IF(10<=$G7+ROUND($F7*$D7,0)-1,2,1),""),"") | Y7: =IF(A7<>"",IF(AND(11>=$G7,11<=$H7),IF(11<=$G7+ROUND($F7*$D7,0)-1,2,1),""),"") | Z7: =IF(A7<>"",IF(AND(12>=$G7,12<=$H7),IF(12<=$G7+ROUND($F7*$D7,0)-1,2,1),""),"") | AA7: =IF(A7<>"",IF(AND(13>=$G7,13<=$H7),IF(13<=$G7+ROUND($F7*$D7,0)-1,2,1),""),"") | AB7: =IF(A7<>"",IF(AND(14>=$G7,14<=$H7),IF(14<=$G7+ROUND($F7*$D7,0)-1,2,1),""),"") | AC7: =IF(A7<>"",IF(AND(15>=$G7,15<=$H7),IF(15<=$G7+ROUND($F7*$D7,0)-1,2,1),""),"") | AD7: =IF(A7<>"",IF(AND(16>=$G7,16<=$H7),IF(16<=$G7+ROUND($F7*$D7,0)-1,2,1),""),"") | AE7: =IF(A7<>"",IF(AND(17>=$G7,17<=$H7),IF(17<=$G7+ROUND($F7*$D7,0)-1,2,1),""),"") | AF7: =IF(A7<>"",IF(AND(18>=$G7,18<=$H7),IF(18<=$G7+ROUND($F7*$D7,0)-1,2,1),""),"") | AG7: =IF(A7<>"",IF(AND(19>=$G7,19<=$H7),IF(19<=$G7+ROUND($F7*$D7,0)-1,2,1),""),"") | AH7: =IF(A7<>"",IF(AND(20>=$G7,20<=$H7),IF(20<=$G7+ROUND($F7*$D7,0)-1,2,1),""),"") | AI7: =IF(A7<>"",IF(AND(21>=$G7,21<=$H7),IF(21<=$G7+ROUND($F7*$D7,0)-1,2,1),""),"") | AJ7: =IF(A7<>"",IF(AND(22>=$G7,22<=$H7),IF(22<=$G7+ROUND($F7*$D7,0)-1,2,1),""),"") | AK7: =IF(A7<>"",IF(AND(23>=$G7,23<=$H7),IF(23<=$G7+ROUND($F7*$D7,0)-1,2,1),""),"") | AL7: =IF(A7<>"",IF(AND(24>=$G7,24<=$H7),IF(24<=$G7+ROUND($F7*$D7,0)-1,2,1),""),"") | AM7: =IF(A7<>"",IF(AND(25>=$G7,25<=$H7),IF(25<=$G7+ROUND($F7*$D7,0)-1,2,1),""),"") | AN7: =IF(A7<>"",IF(AND(26>=$G7,26<=$H7),IF(26<=$G7+ROUND($F7*$D7,0)-1,2,1),""),"") | AO7: =IF(A7<>"",IF(AND(27>=$G7,27<=$H7),IF(27<=$G7+ROUND($F7*$D7,0)-1,2,1),""),"") | AP7: =IF(A7<>"",IF(AND(28>=$G7,28<=$H7),IF(28<=$G7+ROUND($F7*$D7,0)-1,2,1),""),"") | AQ7: =IF(A7<>"",IF(AND(29>=$G7,29<=$H7),IF(29<=$G7+ROUND($F7*$D7,0)-1,2,1),""),"") | AR7: =IF(A7<>"",IF(AND(30>=$G7,30<=$H7),IF(30<=$G7+ROUND($F7*$D7,0)-1,2,1),""),"")
A8: 3 | B8: Excavacion de fundaciones | C8: Obra Gruesa | D8: 1 | E8: 2 | F8: 1 | G8: =IF(A8<>"",IF(E8="",1,IFERROR(INDEX($H$6:$H$45,MATCH(E8,$A$6:$A$45,0))+1,1)),"") -> 3 | H8: =IF(A8<>"",G8+D8-1,"") -> 3 | I8: {=IF(A8<>"",IF(COUNTIF($E$6:$E$45,A8)=0,MAX($H$6:$H$45),IFERROR(MIN(IF($E$6:$E$45=A8,($I$6:$I$45-$D$6:$D$45+1))),MAX($H$6:$H$45)+1)-1),"")} -> 3 | J8: =IF(A8<>"",I8-H8,"") -> 0 | K8: =IF(A8<>"",IF(J8=0,"SI","no"),"") -> SI | L8: =IF(A8<>"",IF(Portada!$C$13="Dias",Portada!$C$14+(G8-1),IF(Portada!$C$13="Semanas",Portada!$C$14+(G8-1)*7,EDATE(Portada!$C$14,(G8-1)))),"") -> 46249 | M8: =IF(A8<>"",IF(Portada!$C$13="Dias",Portada!$C$14+(H8)-1,IF(Portada!$C$13="Semanas",Portada!$C$14+(H8)*7-1,EDATE(Portada!$C$14,(H8))-1)),"") -> 46255 | N8: =IF(A8<>"",IF(COUNTIF($A$6:$A$45,A8)>1,"ID repetido",IF(AND(E8<>"",E8=A8),"Predec. = si misma",IF(AND(E8<>"",COUNTIF($A$6:$A$45,E8)=0),"Predec. no existe",IF(OR(D8="",D8<=0),"Falta duracion",IF(B8="","Falta nombre","OK"))))),"") -> OK | O8: =IF(A8<>"",IF(AND(1>=$G8,1<=$H8),IF(1<=$G8+ROUND($F8*$D8,0)-1,2,1),""),"") | P8: =IF(A8<>"",IF(AND(2>=$G8,2<=$H8),IF(2<=$G8+ROUND($F8*$D8,0)-1,2,1),""),"") | Q8: =IF(A8<>"",IF(AND(3>=$G8,3<=$H8),IF(3<=$G8+ROUND($F8*$D8,0)-1,2,1),""),"") -> 2 | R8: =IF(A8<>"",IF(AND(4>=$G8,4<=$H8),IF(4<=$G8+ROUND($F8*$D8,0)-1,2,1),""),"") | S8: =IF(A8<>"",IF(AND(5>=$G8,5<=$H8),IF(5<=$G8+ROUND($F8*$D8,0)-1,2,1),""),"") | T8: =IF(A8<>"",IF(AND(6>=$G8,6<=$H8),IF(6<=$G8+ROUND($F8*$D8,0)-1,2,1),""),"") | U8: =IF(A8<>"",IF(AND(7>=$G8,7<=$H8),IF(7<=$G8+ROUND($F8*$D8,0)-1,2,1),""),"") | V8: =IF(A8<>"",IF(AND(8>=$G8,8<=$H8),IF(8<=$G8+ROUND($F8*$D8,0)-1,2,1),""),"") | W8: =IF(A8<>"",IF(AND(9>=$G8,9<=$H8),IF(9<=$G8+ROUND($F8*$D8,0)-1,2,1),""),"") | X8: =IF(A8<>"",IF(AND(10>=$G8,10<=$H8),IF(10<=$G8+ROUND($F8*$D8,0)-1,2,1),""),"") | Y8: =IF(A8<>"",IF(AND(11>=$G8,11<=$H8),IF(11<=$G8+ROUND($F8*$D8,0)-1,2,1),""),"") | Z8: =IF(A8<>"",IF(AND(12>=$G8,12<=$H8),IF(12<=$G8+ROUND($F8*$D8,0)-1,2,1),""),"") | AA8: =IF(A8<>"",IF(AND(13>=$G8,13<=$H8),IF(13<=$G8+ROUND($F8*$D8,0)-1,2,1),""),"") | AB8: =IF(A8<>"",IF(AND(14>=$G8,14<=$H8),IF(14<=$G8+ROUND($F8*$D8,0)-1,2,1),""),"") | AC8: =IF(A8<>"",IF(AND(15>=$G8,15<=$H8),IF(15<=$G8+ROUND($F8*$D8,0)-1,2,1),""),"") | AD8: =IF(A8<>"",IF(AND(16>=$G8,16<=$H8),IF(16<=$G8+ROUND($F8*$D8,0)-1,2,1),""),"") | AE8: =IF(A8<>"",IF(AND(17>=$G8,17<=$H8),IF(17<=$G8+ROUND($F8*$D8,0)-1,2,1),""),"") | AF8: =IF(A8<>"",IF(AND(18>=$G8,18<=$H8),IF(18<=$G8+ROUND($F8*$D8,0)-1,2,1),""),"") | AG8: =IF(A8<>"",IF(AND(19>=$G8,19<=$H8),IF(19<=$G8+ROUND($F8*$D8,0)-1,2,1),""),"") | AH8: =IF(A8<>"",IF(AND(20>=$G8,20<=$H8),IF(20<=$G8+ROUND($F8*$D8,0)-1,2,1),""),"") | AI8: =IF(A8<>"",IF(AND(21>=$G8,21<=$H8),IF(21<=$G8+ROUND($F8*$D8,0)-1,2,1),""),"") | AJ8: =IF(A8<>"",IF(AND(22>=$G8,22<=$H8),IF(22<=$G8+ROUND($F8*$D8,0)-1,2,1),""),"") | AK8: =IF(A8<>"",IF(AND(23>=$G8,23<=$H8),IF(23<=$G8+ROUND($F8*$D8,0)-1,2,1),""),"") | AL8: =IF(A8<>"",IF(AND(24>=$G8,24<=$H8),IF(24<=$G8+ROUND($F8*$D8,0)-1,2,1),""),"") | AM8: =IF(A8<>"",IF(AND(25>=$G8,25<=$H8),IF(25<=$G8+ROUND($F8*$D8,0)-1,2,1),""),"") | AN8: =IF(A8<>"",IF(AND(26>=$G8,26<=$H8),IF(26<=$G8+ROUND($F8*$D8,0)-1,2,1),""),"") | AO8: =IF(A8<>"",IF(AND(27>=$G8,27<=$H8),IF(27<=$G8+ROUND($F8*$D8,0)-1,2,1),""),"") | AP8: =IF(A8<>"",IF(AND(28>=$G8,28<=$H8),IF(28<=$G8+ROUND($F8*$D8,0)-1,2,1),""),"") | AQ8: =IF(A8<>"",IF(AND(29>=$G8,29<=$H8),IF(29<=$G8+ROUND($F8*$D8,0)-1,2,1),""),"") | AR8: =IF(A8<>"",IF(AND(30>=$G8,30<=$H8),IF(30<=$G8+ROUND($F8*$D8,0)-1,2,1),""),"")
A9: 4 | B9: Emplantillado y fundaciones | C9: Obra Gruesa | D9: 2 | E9: 3 | F9: 0.5 | G9: =IF(A9<>"",IF(E9="",1,IFERROR(INDEX($H$6:$H$45,MATCH(E9,$A$6:$A$45,0))+1,1)),"") -> 4 | H9: =IF(A9<>"",G9+D9-1,"") -> 5 | I9: {=IF(A9<>"",IF(COUNTIF($E$6:$E$45,A9)=0,MAX($H$6:$H$45),IFERROR(MIN(IF($E$6:$E$45=A9,($I$6:$I$45-$D$6:$D$45+1))),MAX($H$6:$H$45)+1)-1),"")} -> 5 | J9: =IF(A9<>"",I9-H9,"") -> 0 | K9: =IF(A9<>"",IF(J9=0,"SI","no"),"") -> SI | L9: =IF(A9<>"",IF(Portada!$C$13="Dias",Portada!$C$14+(G9-1),IF(Portada!$C$13="Semanas",Portada!$C$14+(G9-1)*7,EDATE(Portada!$C$14,(G9-1)))),"") -> 46256 | M9: =IF(A9<>"",IF(Portada!$C$13="Dias",Portada!$C$14+(H9)-1,IF(Portada!$C$13="Semanas",Portada!$C$14+(H9)*7-1,EDATE(Portada!$C$14,(H9))-1)),"") -> 46269 | N9: =IF(A9<>"",IF(COUNTIF($A$6:$A$45,A9)>1,"ID repetido",IF(AND(E9<>"",E9=A9),"Predec. = si misma",IF(AND(E9<>"",COUNTIF($A$6:$A$45,E9)=0),"Predec. no existe",IF(OR(D9="",D9<=0),"Falta duracion",IF(B9="","Falta nombre","OK"))))),"") -> OK | O9: =IF(A9<>"",IF(AND(1>=$G9,1<=$H9),IF(1<=$G9+ROUND($F9*$D9,0)-1,2,1),""),"") | P9: =IF(A9<>"",IF(AND(2>=$G9,2<=$H9),IF(2<=$G9+ROUND($F9*$D9,0)-1,2,1),""),"") | Q9: =IF(A9<>"",IF(AND(3>=$G9,3<=$H9),IF(3<=$G9+ROUND($F9*$D9,0)-1,2,1),""),"") | R9: =IF(A9<>"",IF(AND(4>=$G9,4<=$H9),IF(4<=$G9+ROUND($F9*$D9,0)-1,2,1),""),"") -> 2 | S9: =IF(A9<>"",IF(AND(5>=$G9,5<=$H9),IF(5<=$G9+ROUND($F9*$D9,0)-1,2,1),""),"") -> 1 | T9: =IF(A9<>"",IF(AND(6>=$G9,6<=$H9),IF(6<=$G9+ROUND($F9*$D9,0)-1,2,1),""),"") | U9: =IF(A9<>"",IF(AND(7>=$G9,7<=$H9),IF(7<=$G9+ROUND($F9*$D9,0)-1,2,1),""),"") | V9: =IF(A9<>"",IF(AND(8>=$G9,8<=$H9),IF(8<=$G9+ROUND($F9*$D9,0)-1,2,1),""),"") | W9: =IF(A9<>"",IF(AND(9>=$G9,9<=$H9),IF(9<=$G9+ROUND($F9*$D9,0)-1,2,1),""),"") | X9: =IF(A9<>"",IF(AND(10>=$G9,10<=$H9),IF(10<=$G9+ROUND($F9*$D9,0)-1,2,1),""),"") | Y9: =IF(A9<>"",IF(AND(11>=$G9,11<=$H9),IF(11<=$G9+ROUND($F9*$D9,0)-1,2,1),""),"") | Z9: =IF(A9<>"",IF(AND(12>=$G9,12<=$H9),IF(12<=$G9+ROUND($F9*$D9,0)-1,2,1),""),"") | AA9: =IF(A9<>"",IF(AND(13>=$G9,13<=$H9),IF(13<=$G9+ROUND($F9*$D9,0)-1,2,1),""),"") | AB9: =IF(A9<>"",IF(AND(14>=$G9,14<=$H9),IF(14<=$G9+ROUND($F9*$D9,0)-1,2,1),""),"") | AC9: =IF(A9<>"",IF(AND(15>=$G9,15<=$H9),IF(15<=$G9+ROUND($F9*$D9,0)-1,2,1),""),"") | AD9: =IF(A9<>"",IF(AND(16>=$G9,16<=$H9),IF(16<=$G9+ROUND($F9*$D9,0)-1,2,1),""),"") | AE9: =IF(A9<>"",IF(AND(17>=$G9,17<=$H9),IF(17<=$G9+ROUND($F9*$D9,0)-1,2,1),""),"") | AF9: =IF(A9<>"",IF(AND(18>=$G9,18<=$H9),IF(18<=$G9+ROUND($F9*$D9,0)-1,2,1),""),"") | AG9: =IF(A9<>"",IF(AND(19>=$G9,19<=$H9),IF(19<=$G9+ROUND($F9*$D9,0)-1,2,1),""),"") | AH9: =IF(A9<>"",IF(AND(20>=$G9,20<=$H9),IF(20<=$G9+ROUND($F9*$D9,0)-1,2,1),""),"") | AI9: =IF(A9<>"",IF(AND(21>=$G9,21<=$H9),IF(21<=$G9+ROUND($F9*$D9,0)-1,2,1),""),"") | AJ9: =IF(A9<>"",IF(AND(22>=$G9,22<=$H9),IF(22<=$G9+ROUND($F9*$D9,0)-1,2,1),""),"") | AK9: =IF(A9<>"",IF(AND(23>=$G9,23<=$H9),IF(23<=$G9+ROUND($F9*$D9,0)-1,2,1),""),"") | AL9: =IF(A9<>"",IF(AND(24>=$G9,24<=$H9),IF(24<=$G9+ROUND($F9*$D9,0)-1,2,1),""),"") | AM9: =IF(A9<>"",IF(AND(25>=$G9,25<=$H9),IF(25<=$G9+ROUND($F9*$D9,0)-1,2,1),""),"") | AN9: =IF(A9<>"",IF(AND(26>=$G9,26<=$H9),IF(26<=$G9+ROUND($F9*$D9,0)-1,2,1),""),"") | AO9: =IF(A9<>"",IF(AND(27>=$G9,27<=$H9),IF(27<=$G9+ROUND($F9*$D9,0)-1,2,1),""),"") | AP9: =IF(A9<>"",IF(AND(28>=$G9,28<=$H9),IF(28<=$G9+ROUND($F9*$D9,0)-1,2,1),""),"") | AQ9: =IF(A9<>"",IF(AND(29>=$G9,29<=$H9),IF(29<=$G9+ROUND($F9*$D9,0)-1,2,1),""),"") | AR9: =IF(A9<>"",IF(AND(30>=$G9,30<=$H9),IF(30<=$G9+ROUND($F9*$D9,0)-1,2,1),""),"")
A10: 5 | B10: Sobrecimientos | C10: Obra Gruesa | D10: 1 | E10: 4 | F10: 0 | G10: =IF(A10<>"",IF(E10="",1,IFERROR(INDEX($H$6:$H$45,MATCH(E10,$A$6:$A$45,0))+1,1)),"") -> 6 | H10: =IF(A10<>"",G10+D10-1,"") -> 6 | I10: {=IF(A10<>"",IF(COUNTIF($E$6:$E$45,A10)=0,MAX($H$6:$H$45),IFERROR(MIN(IF($E$6:$E$45=A10,($I$6:$I$45-$D$6:$D$45+1))),MAX($H$6:$H$45)+1)-1),"")} -> 6 | J10: =IF(A10<>"",I10-H10,"") -> 0 | K10: =IF(A10<>"",IF(J10=0,"SI","no"),"") -> SI | L10: =IF(A10<>"",IF(Portada!$C$13="Dias",Portada!$C$14+(G10-1),IF(Portada!$C$13="Semanas",Portada!$C$14+(G10-1)*7,EDATE(Portada!$C$14,(G10-1)))),"") -> 46270 | M10: =IF(A10<>"",IF(Portada!$C$13="Dias",Portada!$C$14+(H10)-1,IF(Portada!$C$13="Semanas",Portada!$C$14+(H10)*7-1,EDATE(Portada!$C$14,(H10))-1)),"") -> 46276 | N10: =IF(A10<>"",IF(COUNTIF($A$6:$A$45,A10)>1,"ID repetido",IF(AND(E10<>"",E10=A10),"Predec. = si misma",IF(AND(E10<>"",COUNTIF($A$6:$A$45,E10)=0),"Predec. no existe",IF(OR(D10="",D10<=0),"Falta duracion",IF(B10="","Falta nombre","OK"))))),"") -> OK | O10: =IF(A10<>"",IF(AND(1>=$G10,1<=$H10),IF(1<=$G10+ROUND($F10*$D10,0)-1,2,1),""),"") | P10: =IF(A10<>"",IF(AND(2>=$G10,2<=$H10),IF(2<=$G10+ROUND($F10*$D10,0)-1,2,1),""),"") | Q10: =IF(A10<>"",IF(AND(3>=$G10,3<=$H10),IF(3<=$G10+ROUND($F10*$D10,0)-1,2,1),""),"") | R10: =IF(A10<>"",IF(AND(4>=$G10,4<=$H10),IF(4<=$G10+ROUND($F10*$D10,0)-1,2,1),""),"") | S10: =IF(A10<>"",IF(AND(5>=$G10,5<=$H10),IF(5<=$G10+ROUND($F10*$D10,0)-1,2,1),""),"") | T10: =IF(A10<>"",IF(AND(6>=$G10,6<=$H10),IF(6<=$G10+ROUND($F10*$D10,0)-1,2,1),""),"") -> 1 | U10: =IF(A10<>"",IF(AND(7>=$G10,7<=$H10),IF(7<=$G10+ROUND($F10*$D10,0)-1,2,1),""),"") | V10: =IF(A10<>"",IF(AND(8>=$G10,8<=$H10),IF(8<=$G10+ROUND($F10*$D10,0)-1,2,1),""),"") | W10: =IF(A10<>"",IF(AND(9>=$G10,9<=$H10),IF(9<=$G10+ROUND($F10*$D10,0)-1,2,1),""),"") | X10: =IF(A10<>"",IF(AND(10>=$G10,10<=$H10),IF(10<=$G10+ROUND($F10*$D10,0)-1,2,1),""),"") | Y10: =IF(A10<>"",IF(AND(11>=$G10,11<=$H10),IF(11<=$G10+ROUND($F10*$D10,0)-1,2,1),""),"") | Z10: =IF(A10<>"",IF(AND(12>=$G10,12<=$H10),IF(12<=$G10+ROUND($F10*$D10,0)-1,2,1),""),"") | AA10: =IF(A10<>"",IF(AND(13>=$G10,13<=$H10),IF(13<=$G10+ROUND($F10*$D10,0)-1,2,1),""),"") | AB10: =IF(A10<>"",IF(AND(14>=$G10,14<=$H10),IF(14<=$G10+ROUND($F10*$D10,0)-1,2,1),""),"") | AC10: =IF(A10<>"",IF(AND(15>=$G10,15<=$H10),IF(15<=$G10+ROUND($F10*$D10,0)-1,2,1),""),"") | AD10: =IF(A10<>"",IF(AND(16>=$G10,16<=$H10),IF(16<=$G10+ROUND($F10*$D10,0)-1,2,1),""),"") | AE10: =IF(A10<>"",IF(AND(17>=$G10,17<=$H10),IF(17<=$G10+ROUND($F10*$D10,0)-1,2,1),""),"") | AF10: =IF(A10<>"",IF(AND(18>=$G10,18<=$H10),IF(18<=$G10+ROUND($F10*$D10,0)-1,2,1),""),"") | AG10: =IF(A10<>"",IF(AND(19>=$G10,19<=$H10),IF(19<=$G10+ROUND($F10*$D10,0)-1,2,1),""),"") | AH10: =IF(A10<>"",IF(AND(20>=$G10,20<=$H10),IF(20<=$G10+ROUND($F10*$D10,0)-1,2,1),""),"") | AI10: =IF(A10<>"",IF(AND(21>=$G10,21<=$H10),IF(21<=$G10+ROUND($F10*$D10,0)-1,2,1),""),"") | AJ10: =IF(A10<>"",IF(AND(22>=$G10,22<=$H10),IF(22<=$G10+ROUND($F10*$D10,0)-1,2,1),""),"") | AK10: =IF(A10<>"",IF(AND(23>=$G10,23<=$H10),IF(23<=$G10+ROUND($F10*$D10,0)-1,2,1),""),"") | AL10: =IF(A10<>"",IF(AND(24>=$G10,24<=$H10),IF(24<=$G10+ROUND($F10*$D10,0)-1,2,1),""),"") | AM10: =IF(A10<>"",IF(AND(25>=$G10,25<=$H10),IF(25<=$G10+ROUND($F10*$D10,0)-1,2,1),""),"") | AN10: =IF(A10<>"",IF(AND(26>=$G10,26<=$H10),IF(26<=$G10+ROUND($F10*$D10,0)-1,2,1),""),"") | AO10: =IF(A10<>"",IF(AND(27>=$G10,27<=$H10),IF(27<=$G10+ROUND($F10*$D10,0)-1,2,1),""),"") | AP10: =IF(A10<>"",IF(AND(28>=$G10,28<=$H10),IF(28<=$G10+ROUND($F10*$D10,0)-1,2,1),""),"") | AQ10: =IF(A10<>"",IF(AND(29>=$G10,29<=$H10),IF(29<=$G10+ROUND($F10*$D10,0)-1,2,1),""),"") | AR10: =IF(A10<>"",IF(AND(30>=$G10,30<=$H10),IF(30<=$G10+ROUND($F10*$D10,0)-1,2,1),""),"")
A11: 6 | B11: Radier | C11: Obra Gruesa | D11: 1 | E11: 5 | F11: 0 | G11: =IF(A11<>"",IF(E11="",1,IFERROR(INDEX($H$6:$H$45,MATCH(E11,$A$6:$A$45,0))+1,1)),"") -> 7 | H11: =IF(A11<>"",G11+D11-1,"") -> 7 | I11: {=IF(A11<>"",IF(COUNTIF($E$6:$E$45,A11)=0,MAX($H$6:$H$45),IFERROR(MIN(IF($E$6:$E$45=A11,($I$6:$I$45-$D$6:$D$45+1))),MAX($H$6:$H$45)+1)-1),"")} -> 7 | J11: =IF(A11<>"",I11-H11,"") -> 0 | K11: =IF(A11<>"",IF(J11=0,"SI","no"),"") -> SI | L11: =IF(A11<>"",IF(Portada!$C$13="Dias",Portada!$C$14+(G11-1),IF(Portada!$C$13="Semanas",Portada!$C$14+(G11-1)*7,EDATE(Portada!$C$14,(G11-1)))),"") -> 46277 | M11: =IF(A11<>"",IF(Portada!$C$13="Dias",Portada!$C$14+(H11)-1,IF(Portada!$C$13="Semanas",Portada!$C$14+(H11)*7-1,EDATE(Portada!$C$14,(H11))-1)),"") -> 46283 | N11: =IF(A11<>"",IF(COUNTIF($A$6:$A$45,A11)>1,"ID repetido",IF(AND(E11<>"",E11=A11),"Predec. = si misma",IF(AND(E11<>"",COUNTIF($A$6:$A$45,E11)=0),"Predec. no existe",IF(OR(D11="",D11<=0),"Falta duracion",IF(B11="","Falta nombre","OK"))))),"") -> OK | O11: =IF(A11<>"",IF(AND(1>=$G11,1<=$H11),IF(1<=$G11+ROUND($F11*$D11,0)-1,2,1),""),"") | P11: =IF(A11<>"",IF(AND(2>=$G11,2<=$H11),IF(2<=$G11+ROUND($F11*$D11,0)-1,2,1),""),"") | Q11: =IF(A11<>"",IF(AND(3>=$G11,3<=$H11),IF(3<=$G11+ROUND($F11*$D11,0)-1,2,1),""),"") | R11: =IF(A11<>"",IF(AND(4>=$G11,4<=$H11),IF(4<=$G11+ROUND($F11*$D11,0)-1,2,1),""),"") | S11: =IF(A11<>"",IF(AND(5>=$G11,5<=$H11),IF(5<=$G11+ROUND($F11*$D11,0)-1,2,1),""),"") | T11: =IF(A11<>"",IF(AND(6>=$G11,6<=$H11),IF(6<=$G11+ROUND($F11*$D11,0)-1,2,1),""),"") | U11: =IF(A11<>"",IF(AND(7>=$G11,7<=$H11),IF(7<=$G11+ROUND($F11*$D11,0)-1,2,1),""),"") -> 1 | V11: =IF(A11<>"",IF(AND(8>=$G11,8<=$H11),IF(8<=$G11+ROUND($F11*$D11,0)-1,2,1),""),"") | W11: =IF(A11<>"",IF(AND(9>=$G11,9<=$H11),IF(9<=$G11+ROUND($F11*$D11,0)-1,2,1),""),"") | X11: =IF(A11<>"",IF(AND(10>=$G11,10<=$H11),IF(10<=$G11+ROUND($F11*$D11,0)-1,2,1),""),"") | Y11: =IF(A11<>"",IF(AND(11>=$G11,11<=$H11),IF(11<=$G11+ROUND($F11*$D11,0)-1,2,1),""),"") | Z11: =IF(A11<>"",IF(AND(12>=$G11,12<=$H11),IF(12<=$G11+ROUND($F11*$D11,0)-1,2,1),""),"") | AA11: =IF(A11<>"",IF(AND(13>=$G11,13<=$H11),IF(13<=$G11+ROUND($F11*$D11,0)-1,2,1),""),"") | AB11: =IF(A11<>"",IF(AND(14>=$G11,14<=$H11),IF(14<=$G11+ROUND($F11*$D11,0)-1,2,1),""),"") | AC11: =IF(A11<>"",IF(AND(15>=$G11,15<=$H11),IF(15<=$G11+ROUND($F11*$D11,0)-1,2,1),""),"") | AD11: =IF(A11<>"",IF(AND(16>=$G11,16<=$H11),IF(16<=$G11+ROUND($F11*$D11,0)-1,2,1),""),"") | AE11: =IF(A11<>"",IF(AND(17>=$G11,17<=$H11),IF(17<=$G11+ROUND($F11*$D11,0)-1,2,1),""),"") | AF11: =IF(A11<>"",IF(AND(18>=$G11,18<=$H11),IF(18<=$G11+ROUND($F11*$D11,0)-1,2,1),""),"") | AG11: =IF(A11<>"",IF(AND(19>=$G11,19<=$H11),IF(19<=$G11+ROUND($F11*$D11,0)-1,2,1),""),"") | AH11: =IF(A11<>"",IF(AND(20>=$G11,20<=$H11),IF(20<=$G11+ROUND($F11*$D11,0)-1,2,1),""),"") | AI11: =IF(A11<>"",IF(AND(21>=$G11,21<=$H11),IF(21<=$G11+ROUND($F11*$D11,0)-1,2,1),""),"") | AJ11: =IF(A11<>"",IF(AND(22>=$G11,22<=$H11),IF(22<=$G11+ROUND($F11*$D11,0)-1,2,1),""),"") | AK11: =IF(A11<>"",IF(AND(23>=$G11,23<=$H11),IF(23<=$G11+ROUND($F11*$D11,0)-1,2,1),""),"") | AL11: =IF(A11<>"",IF(AND(24>=$G11,24<=$H11),IF(24<=$G11+ROUND($F11*$D11,0)-1,2,1),""),"") | AM11: =IF(A11<>"",IF(AND(25>=$G11,25<=$H11),IF(25<=$G11+ROUND($F11*$D11,0)-1,2,1),""),"") | AN11: =IF(A11<>"",IF(AND(26>=$G11,26<=$H11),IF(26<=$G11+ROUND($F11*$D11,0)-1,2,1),""),"") | AO11: =IF(A11<>"",IF(AND(27>=$G11,27<=$H11),IF(27<=$G11+ROUND($F11*$D11,0)-1,2,1),""),"") | AP11: =IF(A11<>"",IF(AND(28>=$G11,28<=$H11),IF(28<=$G11+ROUND($F11*$D11,0)-1,2,1),""),"") | AQ11: =IF(A11<>"",IF(AND(29>=$G11,29<=$H11),IF(29<=$G11+ROUND($F11*$D11,0)-1,2,1),""),"") | AR11: =IF(A11<>"",IF(AND(30>=$G11,30<=$H11),IF(30<=$G11+ROUND($F11*$D11,0)-1,2,1),""),"")
A12: 7 | B12: Estructura vertical (pilares/muros) | C12: Obra Gruesa | D12: 2 | E12: 6 | F12: 0 | G12: =IF(A12<>"",IF(E12="",1,IFERROR(INDEX($H$6:$H$45,MATCH(E12,$A$6:$A$45,0))+1,1)),"") -> 8 | H12: =IF(A12<>"",G12+D12-1,"") -> 9 | I12: {=IF(A12<>"",IF(COUNTIF($E$6:$E$45,A12)=0,MAX($H$6:$H$45),IFERROR(MIN(IF($E$6:$E$45=A12,($I$6:$I$45-$D$6:$D$45+1))),MAX($H$6:$H$45)+1)-1),"")} -> 9 | J12: =IF(A12<>"",I12-H12,"") -> 0 | K12: =IF(A12<>"",IF(J12=0,"SI","no"),"") -> SI | L12: =IF(A12<>"",IF(Portada!$C$13="Dias",Portada!$C$14+(G12-1),IF(Portada!$C$13="Semanas",Portada!$C$14+(G12-1)*7,EDATE(Portada!$C$14,(G12-1)))),"") -> 46284 | M12: =IF(A12<>"",IF(Portada!$C$13="Dias",Portada!$C$14+(H12)-1,IF(Portada!$C$13="Semanas",Portada!$C$14+(H12)*7-1,EDATE(Portada!$C$14,(H12))-1)),"") -> 46297 | N12: =IF(A12<>"",IF(COUNTIF($A$6:$A$45,A12)>1,"ID repetido",IF(AND(E12<>"",E12=A12),"Predec. = si misma",IF(AND(E12<>"",COUNTIF($A$6:$A$45,E12)=0),"Predec. no existe",IF(OR(D12="",D12<=0),"Falta duracion",IF(B12="","Falta nombre","OK"))))),"") -> OK | O12: =IF(A12<>"",IF(AND(1>=$G12,1<=$H12),IF(1<=$G12+ROUND($F12*$D12,0)-1,2,1),""),"") | P12: =IF(A12<>"",IF(AND(2>=$G12,2<=$H12),IF(2<=$G12+ROUND($F12*$D12,0)-1,2,1),""),"") | Q12: =IF(A12<>"",IF(AND(3>=$G12,3<=$H12),IF(3<=$G12+ROUND($F12*$D12,0)-1,2,1),""),"") | R12: =IF(A12<>"",IF(AND(4>=$G12,4<=$H12),IF(4<=$G12+ROUND($F12*$D12,0)-1,2,1),""),"") | S12: =IF(A12<>"",IF(AND(5>=$G12,5<=$H12),IF(5<=$G12+ROUND($F12*$D12,0)-1,2,1),""),"") | T12: =IF(A12<>"",IF(AND(6>=$G12,6<=$H12),IF(6<=$G12+ROUND($F12*$D12,0)-1,2,1),""),"") | U12: =IF(A12<>"",IF(AND(7>=$G12,7<=$H12),IF(7<=$G12+ROUND($F12*$D12,0)-1,2,1),""),"") | V12: =IF(A12<>"",IF(AND(8>=$G12,8<=$H12),IF(8<=$G12+ROUND($F12*$D12,0)-1,2,1),""),"") -> 1 | W12: =IF(A12<>"",IF(AND(9>=$G12,9<=$H12),IF(9<=$G12+ROUND($F12*$D12,0)-1,2,1),""),"") -> 1 | X12: =IF(A12<>"",IF(AND(10>=$G12,10<=$H12),IF(10<=$G12+ROUND($F12*$D12,0)-1,2,1),""),"") | Y12: =IF(A12<>"",IF(AND(11>=$G12,11<=$H12),IF(11<=$G12+ROUND($F12*$D12,0)-1,2,1),""),"") | Z12: =IF(A12<>"",IF(AND(12>=$G12,12<=$H12),IF(12<=$G12+ROUND($F12*$D12,0)-1,2,1),""),"") | AA12: =IF(A12<>"",IF(AND(13>=$G12,13<=$H12),IF(13<=$G12+ROUND($F12*$D12,0)-1,2,1),""),"") | AB12: =IF(A12<>"",IF(AND(14>=$G12,14<=$H12),IF(14<=$G12+ROUND($F12*$D12,0)-1,2,1),""),"") | AC12: =IF(A12<>"",IF(AND(15>=$G12,15<=$H12),IF(15<=$G12+ROUND($F12*$D12,0)-1,2,1),""),"") | AD12: =IF(A12<>"",IF(AND(16>=$G12,16<=$H12),IF(16<=$G12+ROUND($F12*$D12,0)-1,2,1),""),"") | AE12: =IF(A12<>"",IF(AND(17>=$G12,17<=$H12),IF(17<=$G12+ROUND($F12*$D12,0)-1,2,1),""),"") | AF12: =IF(A12<>"",IF(AND(18>=$G12,18<=$H12),IF(18<=$G12+ROUND($F12*$D12,0)-1,2,1),""),"") | AG12: =IF(A12<>"",IF(AND(19>=$G12,19<=$H12),IF(19<=$G12+ROUND($F12*$D12,0)-1,2,1),""),"") | AH12: =IF(A12<>"",IF(AND(20>=$G12,20<=$H12),IF(20<=$G12+ROUND($F12*$D12,0)-1,2,1),""),"") | AI12: =IF(A12<>"",IF(AND(21>=$G12,21<=$H12),IF(21<=$G12+ROUND($F12*$D12,0)-1,2,1),""),"") | AJ12: =IF(A12<>"",IF(AND(22>=$G12,22<=$H12),IF(22<=$G12+ROUND($F12*$D12,0)-1,2,1),""),"") | AK12: =IF(A12<>"",IF(AND(23>=$G12,23<=$H12),IF(23<=$G12+ROUND($F12*$D12,0)-1,2,1),""),"") | AL12: =IF(A12<>"",IF(AND(24>=$G12,24<=$H12),IF(24<=$G12+ROUND($F12*$D12,0)-1,2,1),""),"") | AM12: =IF(A12<>"",IF(AND(25>=$G12,25<=$H12),IF(25<=$G12+ROUND($F12*$D12,0)-1,2,1),""),"") | AN12: =IF(A12<>"",IF(AND(26>=$G12,26<=$H12),IF(26<=$G12+ROUND($F12*$D12,0)-1,2,1),""),"") | AO12: =IF(A12<>"",IF(AND(27>=$G12,27<=$H12),IF(27<=$G12+ROUND($F12*$D12,0)-1,2,1),""),"") | AP12: =IF(A12<>"",IF(AND(28>=$G12,28<=$H12),IF(28<=$G12+ROUND($F12*$D12,0)-1,2,1),""),"") | AQ12: =IF(A12<>"",IF(AND(29>=$G12,29<=$H12),IF(29<=$G12+ROUND($F12*$D12,0)-1,2,1),""),"") | AR12: =IF(A12<>"",IF(AND(30>=$G12,30<=$H12),IF(30<=$G12+ROUND($F12*$D12,0)-1,2,1),""),"")
A13: 8 | B13: Estructura horizontal (vigas/losa) | C13: Obra Gruesa | D13: 2 | E13: 7 | F13: 0 | G13: =IF(A13<>"",IF(E13="",1,IFERROR(INDEX($H$6:$H$45,MATCH(E13,$A$6:$A$45,0))+1,1)),"") -> 10 | H13: =IF(A13<>"",G13+D13-1,"") -> 11 | I13: {=IF(A13<>"",IF(COUNTIF($E$6:$E$45,A13)=0,MAX($H$6:$H$45),IFERROR(MIN(IF($E$6:$E$45=A13,($I$6:$I$45-$D$6:$D$45+1))),MAX($H$6:$H$45)+1)-1),"")} -> 11 | J13: =IF(A13<>"",I13-H13,"") -> 0 | K13: =IF(A13<>"",IF(J13=0,"SI","no"),"") -> SI | L13: =IF(A13<>"",IF(Portada!$C$13="Dias",Portada!$C$14+(G13-1),IF(Portada!$C$13="Semanas",Portada!$C$14+(G13-1)*7,EDATE(Portada!$C$14,(G13-1)))),"") -> 46298 | M13: =IF(A13<>"",IF(Portada!$C$13="Dias",Portada!$C$14+(H13)-1,IF(Portada!$C$13="Semanas",Portada!$C$14+(H13)*7-1,EDATE(Portada!$C$14,(H13))-1)),"") -> 46311 | N13: =IF(A13<>"",IF(COUNTIF($A$6:$A$45,A13)>1,"ID repetido",IF(AND(E13<>"",E13=A13),"Predec. = si misma",IF(AND(E13<>"",COUNTIF($A$6:$A$45,E13)=0),"Predec. no existe",IF(OR(D13="",D13<=0),"Falta duracion",IF(B13="","Falta nombre","OK"))))),"") -> OK | O13: =IF(A13<>"",IF(AND(1>=$G13,1<=$H13),IF(1<=$G13+ROUND($F13*$D13,0)-1,2,1),""),"") | P13: =IF(A13<>"",IF(AND(2>=$G13,2<=$H13),IF(2<=$G13+ROUND($F13*$D13,0)-1,2,1),""),"") | Q13: =IF(A13<>"",IF(AND(3>=$G13,3<=$H13),IF(3<=$G13+ROUND($F13*$D13,0)-1,2,1),""),"") | R13: =IF(A13<>"",IF(AND(4>=$G13,4<=$H13),IF(4<=$G13+ROUND($F13*$D13,0)-1,2,1),""),"") | S13: =IF(A13<>"",IF(AND(5>=$G13,5<=$H13),IF(5<=$G13+ROUND($F13*$D13,0)-1,2,1),""),"") | T13: =IF(A13<>"",IF(AND(6>=$G13,6<=$H13),IF(6<=$G13+ROUND($F13*$D13,0)-1,2,1),""),"") | U13: =IF(A13<>"",IF(AND(7>=$G13,7<=$H13),IF(7<=$G13+ROUND($F13*$D13,0)-1,2,1),""),"") | V13: =IF(A13<>"",IF(AND(8>=$G13,8<=$H13),IF(8<=$G13+ROUND($F13*$D13,0)-1,2,1),""),"") | W13: =IF(A13<>"",IF(AND(9>=$G13,9<=$H13),IF(9<=$G13+ROUND($F13*$D13,0)-1,2,1),""),"") | X13: =IF(A13<>"",IF(AND(10>=$G13,10<=$H13),IF(10<=$G13+ROUND($F13*$D13,0)-1,2,1),""),"") -> 1 | Y13: =IF(A13<>"",IF(AND(11>=$G13,11<=$H13),IF(11<=$G13+ROUND($F13*$D13,0)-1,2,1),""),"") -> 1 | Z13: =IF(A13<>"",IF(AND(12>=$G13,12<=$H13),IF(12<=$G13+ROUND($F13*$D13,0)-1,2,1),""),"") | AA13: =IF(A13<>"",IF(AND(13>=$G13,13<=$H13),IF(13<=$G13+ROUND($F13*$D13,0)-1,2,1),""),"") | AB13: =IF(A13<>"",IF(AND(14>=$G13,14<=$H13),IF(14<=$G13+ROUND($F13*$D13,0)-1,2,1),""),"") | AC13: =IF(A13<>"",IF(AND(15>=$G13,15<=$H13),IF(15<=$G13+ROUND($F13*$D13,0)-1,2,1),""),"") | AD13: =IF(A13<>"",IF(AND(16>=$G13,16<=$H13),IF(16<=$G13+ROUND($F13*$D13,0)-1,2,1),""),"") | AE13: =IF(A13<>"",IF(AND(17>=$G13,17<=$H13),IF(17<=$G13+ROUND($F13*$D13,0)-1,2,1),""),"") | AF13: =IF(A13<>"",IF(AND(18>=$G13,18<=$H13),IF(18<=$G13+ROUND($F13*$D13,0)-1,2,1),""),"") | AG13: =IF(A13<>"",IF(AND(19>=$G13,19<=$H13),IF(19<=$G13+ROUND($F13*$D13,0)-1,2,1),""),"") | AH13: =IF(A13<>"",IF(AND(20>=$G13,20<=$H13),IF(20<=$G13+ROUND($F13*$D13,0)-1,2,1),""),"") | AI13: =IF(A13<>"",IF(AND(21>=$G13,21<=$H13),IF(21<=$G13+ROUND($F13*$D13,0)-1,2,1),""),"") | AJ13: =IF(A13<>"",IF(AND(22>=$G13,22<=$H13),IF(22<=$G13+ROUND($F13*$D13,0)-1,2,1),""),"") | AK13: =IF(A13<>"",IF(AND(23>=$G13,23<=$H13),IF(23<=$G13+ROUND($F13*$D13,0)-1,2,1),""),"") | AL13: =IF(A13<>"",IF(AND(24>=$G13,24<=$H13),IF(24<=$G13+ROUND($F13*$D13,0)-1,2,1),""),"") | AM13: =IF(A13<>"",IF(AND(25>=$G13,25<=$H13),IF(25<=$G13+ROUND($F13*$D13,0)-1,2,1),""),"") | AN13: =IF(A13<>"",IF(AND(26>=$G13,26<=$H13),IF(26<=$G13+ROUND($F13*$D13,0)-1,2,1),""),"") | AO13: =IF(A13<>"",IF(AND(27>=$G13,27<=$H13),IF(27<=$G13+ROUND($F13*$D13,0)-1,2,1),""),"") | AP13: =IF(A13<>"",IF(AND(28>=$G13,28<=$H13),IF(28<=$G13+ROUND($F13*$D13,0)-1,2,1),""),"") | AQ13: =IF(A13<>"",IF(AND(29>=$G13,29<=$H13),IF(29<=$G13+ROUND($F13*$D13,0)-1,2,1),""),"") | AR13: =IF(A13<>"",IF(AND(30>=$G13,30<=$H13),IF(30<=$G13+ROUND($F13*$D13,0)-1,2,1),""),"")
A14: 9 | B14: Estructura de techumbre | C14: Obra Gruesa | D14: 2 | E14: 8 | F14: 0 | G14: =IF(A14<>"",IF(E14="",1,IFERROR(INDEX($H$6:$H$45,MATCH(E14,$A$6:$A$45,0))+1,1)),"") -> 12 | H14: =IF(A14<>"",G14+D14-1,"") -> 13 | I14: {=IF(A14<>"",IF(COUNTIF($E$6:$E$45,A14)=0,MAX($H$6:$H$45),IFERROR(MIN(IF($E$6:$E$45=A14,($I$6:$I$45-$D$6:$D$45+1))),MAX($H$6:$H$45)+1)-1),"")} -> 13 | J14: =IF(A14<>"",I14-H14,"") -> 0 | K14: =IF(A14<>"",IF(J14=0,"SI","no"),"") -> SI | L14: =IF(A14<>"",IF(Portada!$C$13="Dias",Portada!$C$14+(G14-1),IF(Portada!$C$13="Semanas",Portada!$C$14+(G14-1)*7,EDATE(Portada!$C$14,(G14-1)))),"") -> 46312 | M14: =IF(A14<>"",IF(Portada!$C$13="Dias",Portada!$C$14+(H14)-1,IF(Portada!$C$13="Semanas",Portada!$C$14+(H14)*7-1,EDATE(Portada!$C$14,(H14))-1)),"") -> 46325 | N14: =IF(A14<>"",IF(COUNTIF($A$6:$A$45,A14)>1,"ID repetido",IF(AND(E14<>"",E14=A14),"Predec. = si misma",IF(AND(E14<>"",COUNTIF($A$6:$A$45,E14)=0),"Predec. no existe",IF(OR(D14="",D14<=0),"Falta duracion",IF(B14="","Falta nombre","OK"))))),"") -> OK | O14: =IF(A14<>"",IF(AND(1>=$G14,1<=$H14),IF(1<=$G14+ROUND($F14*$D14,0)-1,2,1),""),"") | P14: =IF(A14<>"",IF(AND(2>=$G14,2<=$H14),IF(2<=$G14+ROUND($F14*$D14,0)-1,2,1),""),"") | Q14: =IF(A14<>"",IF(AND(3>=$G14,3<=$H14),IF(3<=$G14+ROUND($F14*$D14,0)-1,2,1),""),"") | R14: =IF(A14<>"",IF(AND(4>=$G14,4<=$H14),IF(4<=$G14+ROUND($F14*$D14,0)-1,2,1),""),"") | S14: =IF(A14<>"",IF(AND(5>=$G14,5<=$H14),IF(5<=$G14+ROUND($F14*$D14,0)-1,2,1),""),"") | T14: =IF(A14<>"",IF(AND(6>=$G14,6<=$H14),IF(6<=$G14+ROUND($F14*$D14,0)-1,2,1),""),"") | U14: =IF(A14<>"",IF(AND(7>=$G14,7<=$H14),IF(7<=$G14+ROUND($F14*$D14,0)-1,2,1),""),"") | V14: =IF(A14<>"",IF(AND(8>=$G14,8<=$H14),IF(8<=$G14+ROUND($F14*$D14,0)-1,2,1),""),"") | W14: =IF(A14<>"",IF(AND(9>=$G14,9<=$H14),IF(9<=$G14+ROUND($F14*$D14,0)-1,2,1),""),"") | X14: =IF(A14<>"",IF(AND(10>=$G14,10<=$H14),IF(10<=$G14+ROUND($F14*$D14,0)-1,2,1),""),"") | Y14: =IF(A14<>"",IF(AND(11>=$G14,11<=$H14),IF(11<=$G14+ROUND($F14*$D14,0)-1,2,1),""),"") | Z14: =IF(A14<>"",IF(AND(12>=$G14,12<=$H14),IF(12<=$G14+ROUND($F14*$D14,0)-1,2,1),""),"") -> 1 | AA14: =IF(A14<>"",IF(AND(13>=$G14,13<=$H14),IF(13<=$G14+ROUND($F14*$D14,0)-1,2,1),""),"") -> 1 | AB14: =IF(A14<>"",IF(AND(14>=$G14,14<=$H14),IF(14<=$G14+ROUND($F14*$D14,0)-1,2,1),""),"") | AC14: =IF(A14<>"",IF(AND(15>=$G14,15<=$H14),IF(15<=$G14+ROUND($F14*$D14,0)-1,2,1),""),"") | AD14: =IF(A14<>"",IF(AND(16>=$G14,16<=$H14),IF(16<=$G14+ROUND($F14*$D14,0)-1,2,1),""),"") | AE14: =IF(A14<>"",IF(AND(17>=$G14,17<=$H14),IF(17<=$G14+ROUND($F14*$D14,0)-1,2,1),""),"") | AF14: =IF(A14<>"",IF(AND(18>=$G14,18<=$H14),IF(18<=$G14+ROUND($F14*$D14,0)-1,2,1),""),"") | AG14: =IF(A14<>"",IF(AND(19>=$G14,19<=$H14),IF(19<=$G14+ROUND($F14*$D14,0)-1,2,1),""),"") | AH14: =IF(A14<>"",IF(AND(20>=$G14,20<=$H14),IF(20<=$G14+ROUND($F14*$D14,0)-1,2,1),""),"") | AI14: =IF(A14<>"",IF(AND(21>=$G14,21<=$H14),IF(21<=$G14+ROUND($F14*$D14,0)-1,2,1),""),"") | AJ14: =IF(A14<>"",IF(AND(22>=$G14,22<=$H14),IF(22<=$G14+ROUND($F14*$D14,0)-1,2,1),""),"") | AK14: =IF(A14<>"",IF(AND(23>=$G14,23<=$H14),IF(23<=$G14+ROUND($F14*$D14,0)-1,2,1),""),"") | AL14: =IF(A14<>"",IF(AND(24>=$G14,24<=$H14),IF(24<=$G14+ROUND($F14*$D14,0)-1,2,1),""),"") | AM14: =IF(A14<>"",IF(AND(25>=$G14,25<=$H14),IF(25<=$G14+ROUND($F14*$D14,0)-1,2,1),""),"") | AN14: =IF(A14<>"",IF(AND(26>=$G14,26<=$H14),IF(26<=$G14+ROUND($F14*$D14,0)-1,2,1),""),"") | AO14: =IF(A14<>"",IF(AND(27>=$G14,27<=$H14),IF(27<=$G14+ROUND($F14*$D14,0)-1,2,1),""),"") | AP14: =IF(A14<>"",IF(AND(28>=$G14,28<=$H14),IF(28<=$G14+ROUND($F14*$D14,0)-1,2,1),""),"") | AQ14: =IF(A14<>"",IF(AND(29>=$G14,29<=$H14),IF(29<=$G14+ROUND($F14*$D14,0)-1,2,1),""),"") | AR14: =IF(A14<>"",IF(AND(30>=$G14,30<=$H14),IF(30<=$G14+ROUND($F14*$D14,0)-1,2,1),""),"")
A15: 10 | B15: Cubierta | C15: Obra Gruesa | D15: 1 | E15: 9 | F15: 0 | G15: =IF(A15<>"",IF(E15="",1,IFERROR(INDEX($H$6:$H$45,MATCH(E15,$A$6:$A$45,0))+1,1)),"") -> 14 | H15: =IF(A15<>"",G15+D15-1,"") -> 14 | I15: {=IF(A15<>"",IF(COUNTIF($E$6:$E$45,A15)=0,MAX($H$6:$H$45),IFERROR(MIN(IF($E$6:$E$45=A15,($I$6:$I$45-$D$6:$D$45+1))),MAX($H$6:$H$45)+1)-1),"")} -> 14 | J15: =IF(A15<>"",I15-H15,"") -> 0 | K15: =IF(A15<>"",IF(J15=0,"SI","no"),"") -> SI | L15: =IF(A15<>"",IF(Portada!$C$13="Dias",Portada!$C$14+(G15-1),IF(Portada!$C$13="Semanas",Portada!$C$14+(G15-1)*7,EDATE(Portada!$C$14,(G15-1)))),"") -> 46326 | M15: =IF(A15<>"",IF(Portada!$C$13="Dias",Portada!$C$14+(H15)-1,IF(Portada!$C$13="Semanas",Portada!$C$14+(H15)*7-1,EDATE(Portada!$C$14,(H15))-1)),"") -> 46332 | N15: =IF(A15<>"",IF(COUNTIF($A$6:$A$45,A15)>1,"ID repetido",IF(AND(E15<>"",E15=A15),"Predec. = si misma",IF(AND(E15<>"",COUNTIF($A$6:$A$45,E15)=0),"Predec. no existe",IF(OR(D15="",D15<=0),"Falta duracion",IF(B15="","Falta nombre","OK"))))),"") -> OK | O15: =IF(A15<>"",IF(AND(1>=$G15,1<=$H15),IF(1<=$G15+ROUND($F15*$D15,0)-1,2,1),""),"") | P15: =IF(A15<>"",IF(AND(2>=$G15,2<=$H15),IF(2<=$G15+ROUND($F15*$D15,0)-1,2,1),""),"") | Q15: =IF(A15<>"",IF(AND(3>=$G15,3<=$H15),IF(3<=$G15+ROUND($F15*$D15,0)-1,2,1),""),"") | R15: =IF(A15<>"",IF(AND(4>=$G15,4<=$H15),IF(4<=$G15+ROUND($F15*$D15,0)-1,2,1),""),"") | S15: =IF(A15<>"",IF(AND(5>=$G15,5<=$H15),IF(5<=$G15+ROUND($F15*$D15,0)-1,2,1),""),"") | T15: =IF(A15<>"",IF(AND(6>=$G15,6<=$H15),IF(6<=$G15+ROUND($F15*$D15,0)-1,2,1),""),"") | U15: =IF(A15<>"",IF(AND(7>=$G15,7<=$H15),IF(7<=$G15+ROUND($F15*$D15,0)-1,2,1),""),"") | V15: =IF(A15<>"",IF(AND(8>=$G15,8<=$H15),IF(8<=$G15+ROUND($F15*$D15,0)-1,2,1),""),"") | W15: =IF(A15<>"",IF(AND(9>=$G15,9<=$H15),IF(9<=$G15+ROUND($F15*$D15,0)-1,2,1),""),"") | X15: =IF(A15<>"",IF(AND(10>=$G15,10<=$H15),IF(10<=$G15+ROUND($F15*$D15,0)-1,2,1),""),"") | Y15: =IF(A15<>"",IF(AND(11>=$G15,11<=$H15),IF(11<=$G15+ROUND($F15*$D15,0)-1,2,1),""),"") | Z15: =IF(A15<>"",IF(AND(12>=$G15,12<=$H15),IF(12<=$G15+ROUND($F15*$D15,0)-1,2,1),""),"") | AA15: =IF(A15<>"",IF(AND(13>=$G15,13<=$H15),IF(13<=$G15+ROUND($F15*$D15,0)-1,2,1),""),"") | AB15: =IF(A15<>"",IF(AND(14>=$G15,14<=$H15),IF(14<=$G15+ROUND($F15*$D15,0)-1,2,1),""),"") -> 1 | AC15: =IF(A15<>"",IF(AND(15>=$G15,15<=$H15),IF(15<=$G15+ROUND($F15*$D15,0)-1,2,1),""),"") | AD15: =IF(A15<>"",IF(AND(16>=$G15,16<=$H15),IF(16<=$G15+ROUND($F15*$D15,0)-1,2,1),""),"") | AE15: =IF(A15<>"",IF(AND(17>=$G15,17<=$H15),IF(17<=$G15+ROUND($F15*$D15,0)-1,2,1),""),"") | AF15: =IF(A15<>"",IF(AND(18>=$G15,18<=$H15),IF(18<=$G15+ROUND($F15*$D15,0)-1,2,1),""),"") | AG15: =IF(A15<>"",IF(AND(19>=$G15,19<=$H15),IF(19<=$G15+ROUND($F15*$D15,0)-1,2,1),""),"") | AH15: =IF(A15<>"",IF(AND(20>=$G15,20<=$H15),IF(20<=$G15+ROUND($F15*$D15,0)-1,2,1),""),"") | AI15: =IF(A15<>"",IF(AND(21>=$G15,21<=$H15),IF(21<=$G15+ROUND($F15*$D15,0)-1,2,1),""),"") | AJ15: =IF(A15<>"",IF(AND(22>=$G15,22<=$H15),IF(22<=$G15+ROUND($F15*$D15,0)-1,2,1),""),"") | AK15: =IF(A15<>"",IF(AND(23>=$G15,23<=$H15),IF(23<=$G15+ROUND($F15*$D15,0)-1,2,1),""),"") | AL15: =IF(A15<>"",IF(AND(24>=$G15,24<=$H15),IF(24<=$G15+ROUND($F15*$D15,0)-1,2,1),""),"") | AM15: =IF(A15<>"",IF(AND(25>=$G15,25<=$H15),IF(25<=$G15+ROUND($F15*$D15,0)-1,2,1),""),"") | AN15: =IF(A15<>"",IF(AND(26>=$G15,26<=$H15),IF(26<=$G15+ROUND($F15*$D15,0)-1,2,1),""),"") | AO15: =IF(A15<>"",IF(AND(27>=$G15,27<=$H15),IF(27<=$G15+ROUND($F15*$D15,0)-1,2,1),""),"") | AP15: =IF(A15<>"",IF(AND(28>=$G15,28<=$H15),IF(28<=$G15+ROUND($F15*$D15,0)-1,2,1),""),"") | AQ15: =IF(A15<>"",IF(AND(29>=$G15,29<=$H15),IF(29<=$G15+ROUND($F15*$D15,0)-1,2,1),""),"") | AR15: =IF(A15<>"",IF(AND(30>=$G15,30<=$H15),IF(30<=$G15+ROUND($F15*$D15,0)-1,2,1),""),"")
A16: 11 | B16: Tabiqueria interior | C16: Terminaciones | D16: 2 | E16: 10 | F16: 0 | G16: =IF(A16<>"",IF(E16="",1,IFERROR(INDEX($H$6:$H$45,MATCH(E16,$A$6:$A$45,0))+1,1)),"") -> 15 | H16: =IF(A16<>"",G16+D16-1,"") -> 16 | I16: {=IF(A16<>"",IF(COUNTIF($E$6:$E$45,A16)=0,MAX($H$6:$H$45),IFERROR(MIN(IF($E$6:$E$45=A16,($I$6:$I$45-$D$6:$D$45+1))),MAX($H$6:$H$45)+1)-1),"")} -> 16 | J16: =IF(A16<>"",I16-H16,"") -> 0 | K16: =IF(A16<>"",IF(J16=0,"SI","no"),"") -> SI | L16: =IF(A16<>"",IF(Portada!$C$13="Dias",Portada!$C$14+(G16-1),IF(Portada!$C$13="Semanas",Portada!$C$14+(G16-1)*7,EDATE(Portada!$C$14,(G16-1)))),"") -> 46333 | M16: =IF(A16<>"",IF(Portada!$C$13="Dias",Portada!$C$14+(H16)-1,IF(Portada!$C$13="Semanas",Portada!$C$14+(H16)*7-1,EDATE(Portada!$C$14,(H16))-1)),"") -> 46346 | N16: =IF(A16<>"",IF(COUNTIF($A$6:$A$45,A16)>1,"ID repetido",IF(AND(E16<>"",E16=A16),"Predec. = si misma",IF(AND(E16<>"",COUNTIF($A$6:$A$45,E16)=0),"Predec. no existe",IF(OR(D16="",D16<=0),"Falta duracion",IF(B16="","Falta nombre","OK"))))),"") -> OK | O16: =IF(A16<>"",IF(AND(1>=$G16,1<=$H16),IF(1<=$G16+ROUND($F16*$D16,0)-1,2,1),""),"") | P16: =IF(A16<>"",IF(AND(2>=$G16,2<=$H16),IF(2<=$G16+ROUND($F16*$D16,0)-1,2,1),""),"") | Q16: =IF(A16<>"",IF(AND(3>=$G16,3<=$H16),IF(3<=$G16+ROUND($F16*$D16,0)-1,2,1),""),"") | R16: =IF(A16<>"",IF(AND(4>=$G16,4<=$H16),IF(4<=$G16+ROUND($F16*$D16,0)-1,2,1),""),"") | S16: =IF(A16<>"",IF(AND(5>=$G16,5<=$H16),IF(5<=$G16+ROUND($F16*$D16,0)-1,2,1),""),"") | T16: =IF(A16<>"",IF(AND(6>=$G16,6<=$H16),IF(6<=$G16+ROUND($F16*$D16,0)-1,2,1),""),"") | U16: =IF(A16<>"",IF(AND(7>=$G16,7<=$H16),IF(7<=$G16+ROUND($F16*$D16,0)-1,2,1),""),"") | V16: =IF(A16<>"",IF(AND(8>=$G16,8<=$H16),IF(8<=$G16+ROUND($F16*$D16,0)-1,2,1),""),"") | W16: =IF(A16<>"",IF(AND(9>=$G16,9<=$H16),IF(9<=$G16+ROUND($F16*$D16,0)-1,2,1),""),"") | X16: =IF(A16<>"",IF(AND(10>=$G16,10<=$H16),IF(10<=$G16+ROUND($F16*$D16,0)-1,2,1),""),"") | Y16: =IF(A16<>"",IF(AND(11>=$G16,11<=$H16),IF(11<=$G16+ROUND($F16*$D16,0)-1,2,1),""),"") | Z16: =IF(A16<>"",IF(AND(12>=$G16,12<=$H16),IF(12<=$G16+ROUND($F16*$D16,0)-1,2,1),""),"") | AA16: =IF(A16<>"",IF(AND(13>=$G16,13<=$H16),IF(13<=$G16+ROUND($F16*$D16,0)-1,2,1),""),"") | AB16: =IF(A16<>"",IF(AND(14>=$G16,14<=$H16),IF(14<=$G16+ROUND($F16*$D16,0)-1,2,1),""),"") | AC16: =IF(A16<>"",IF(AND(15>=$G16,15<=$H16),IF(15<=$G16+ROUND($F16*$D16,0)-1,2,1),""),"") -> 1 | AD16: =IF(A16<>"",IF(AND(16>=$G16,16<=$H16),IF(16<=$G16+ROUND($F16*$D16,0)-1,2,1),""),"") -> 1 | AE16: =IF(A16<>"",IF(AND(17>=$G16,17<=$H16),IF(17<=$G16+ROUND($F16*$D16,0)-1,2,1),""),"") | AF16: =IF(A16<>"",IF(AND(18>=$G16,18<=$H16),IF(18<=$G16+ROUND($F16*$D16,0)-1,2,1),""),"") | AG16: =IF(A16<>"",IF(AND(19>=$G16,19<=$H16),IF(19<=$G16+ROUND($F16*$D16,0)-1,2,1),""),"") | AH16: =IF(A16<>"",IF(AND(20>=$G16,20<=$H16),IF(20<=$G16+ROUND($F16*$D16,0)-1,2,1),""),"") | AI16: =IF(A16<>"",IF(AND(21>=$G16,21<=$H16),IF(21<=$G16+ROUND($F16*$D16,0)-1,2,1),""),"") | AJ16: =IF(A16<>"",IF(AND(22>=$G16,22<=$H16),IF(22<=$G16+ROUND($F16*$D16,0)-1,2,1),""),"") | AK16: =IF(A16<>"",IF(AND(23>=$G16,23<=$H16),IF(23<=$G16+ROUND($F16*$D16,0)-1,2,1),""),"") | AL16: =IF(A16<>"",IF(AND(24>=$G16,24<=$H16),IF(24<=$G16+ROUND($F16*$D16,0)-1,2,1),""),"") | AM16: =IF(A16<>"",IF(AND(25>=$G16,25<=$H16),IF(25<=$G16+ROUND($F16*$D16,0)-1,2,1),""),"") | AN16: =IF(A16<>"",IF(AND(26>=$G16,26<=$H16),IF(26<=$G16+ROUND($F16*$D16,0)-1,2,1),""),"") | AO16: =IF(A16<>"",IF(AND(27>=$G16,27<=$H16),IF(27<=$G16+ROUND($F16*$D16,0)-1,2,1),""),"") | AP16: =IF(A16<>"",IF(AND(28>=$G16,28<=$H16),IF(28<=$G16+ROUND($F16*$D16,0)-1,2,1),""),"") | AQ16: =IF(A16<>"",IF(AND(29>=$G16,29<=$H16),IF(29<=$G16+ROUND($F16*$D16,0)-1,2,1),""),"") | AR16: =IF(A16<>"",IF(AND(30>=$G16,30<=$H16),IF(30<=$G16+ROUND($F16*$D16,0)-1,2,1),""),"")
A17: 12 | B17: Instalaciones sanitarias | C17: Instalaciones | D17: 2 | E17: 10 | F17: 0 | G17: =IF(A17<>"",IF(E17="",1,IFERROR(INDEX($H$6:$H$45,MATCH(E17,$A$6:$A$45,0))+1,1)),"") -> 15 | H17: =IF(A17<>"",G17+D17-1,"") -> 16 | I17: {=IF(A17<>"",IF(COUNTIF($E$6:$E$45,A17)=0,MAX($H$6:$H$45),IFERROR(MIN(IF($E$6:$E$45=A17,($I$6:$I$45-$D$6:$D$45+1))),MAX($H$6:$H$45)+1)-1),"")} -> 22 | J17: =IF(A17<>"",I17-H17,"") -> 6 | K17: =IF(A17<>"",IF(J17=0,"SI","no"),"") -> no | L17: =IF(A17<>"",IF(Portada!$C$13="Dias",Portada!$C$14+(G17-1),IF(Portada!$C$13="Semanas",Portada!$C$14+(G17-1)*7,EDATE(Portada!$C$14,(G17-1)))),"") -> 46333 | M17: =IF(A17<>"",IF(Portada!$C$13="Dias",Portada!$C$14+(H17)-1,IF(Portada!$C$13="Semanas",Portada!$C$14+(H17)*7-1,EDATE(Portada!$C$14,(H17))-1)),"") -> 46346 | N17: =IF(A17<>"",IF(COUNTIF($A$6:$A$45,A17)>1,"ID repetido",IF(AND(E17<>"",E17=A17),"Predec. = si misma",IF(AND(E17<>"",COUNTIF($A$6:$A$45,E17)=0),"Predec. no existe",IF(OR(D17="",D17<=0),"Falta duracion",IF(B17="","Falta nombre","OK"))))),"") -> OK | O17: =IF(A17<>"",IF(AND(1>=$G17,1<=$H17),IF(1<=$G17+ROUND($F17*$D17,0)-1,2,1),""),"") | P17: =IF(A17<>"",IF(AND(2>=$G17,2<=$H17),IF(2<=$G17+ROUND($F17*$D17,0)-1,2,1),""),"") | Q17: =IF(A17<>"",IF(AND(3>=$G17,3<=$H17),IF(3<=$G17+ROUND($F17*$D17,0)-1,2,1),""),"") | R17: =IF(A17<>"",IF(AND(4>=$G17,4<=$H17),IF(4<=$G17+ROUND($F17*$D17,0)-1,2,1),""),"") | S17: =IF(A17<>"",IF(AND(5>=$G17,5<=$H17),IF(5<=$G17+ROUND($F17*$D17,0)-1,2,1),""),"") | T17: =IF(A17<>"",IF(AND(6>=$G17,6<=$H17),IF(6<=$G17+ROUND($F17*$D17,0)-1,2,1),""),"") | U17: =IF(A17<>"",IF(AND(7>=$G17,7<=$H17),IF(7<=$G17+ROUND($F17*$D17,0)-1,2,1),""),"") | V17: =IF(A17<>"",IF(AND(8>=$G17,8<=$H17),IF(8<=$G17+ROUND($F17*$D17,0)-1,2,1),""),"") | W17: =IF(A17<>"",IF(AND(9>=$G17,9<=$H17),IF(9<=$G17+ROUND($F17*$D17,0)-1,2,1),""),"") | X17: =IF(A17<>"",IF(AND(10>=$G17,10<=$H17),IF(10<=$G17+ROUND($F17*$D17,0)-1,2,1),""),"") | Y17: =IF(A17<>"",IF(AND(11>=$G17,11<=$H17),IF(11<=$G17+ROUND($F17*$D17,0)-1,2,1),""),"") | Z17: =IF(A17<>"",IF(AND(12>=$G17,12<=$H17),IF(12<=$G17+ROUND($F17*$D17,0)-1,2,1),""),"") | AA17: =IF(A17<>"",IF(AND(13>=$G17,13<=$H17),IF(13<=$G17+ROUND($F17*$D17,0)-1,2,1),""),"") | AB17: =IF(A17<>"",IF(AND(14>=$G17,14<=$H17),IF(14<=$G17+ROUND($F17*$D17,0)-1,2,1),""),"") | AC17: =IF(A17<>"",IF(AND(15>=$G17,15<=$H17),IF(15<=$G17+ROUND($F17*$D17,0)-1,2,1),""),"") -> 1 | AD17: =IF(A17<>"",IF(AND(16>=$G17,16<=$H17),IF(16<=$G17+ROUND($F17*$D17,0)-1,2,1),""),"") -> 1 | AE17: =IF(A17<>"",IF(AND(17>=$G17,17<=$H17),IF(17<=$G17+ROUND($F17*$D17,0)-1,2,1),""),"") | AF17: =IF(A17<>"",IF(AND(18>=$G17,18<=$H17),IF(18<=$G17+ROUND($F17*$D17,0)-1,2,1),""),"") | AG17: =IF(A17<>"",IF(AND(19>=$G17,19<=$H17),IF(19<=$G17+ROUND($F17*$D17,0)-1,2,1),""),"") | AH17: =IF(A17<>"",IF(AND(20>=$G17,20<=$H17),IF(20<=$G17+ROUND($F17*$D17,0)-1,2,1),""),"") | AI17: =IF(A17<>"",IF(AND(21>=$G17,21<=$H17),IF(21<=$G17+ROUND($F17*$D17,0)-1,2,1),""),"") | AJ17: =IF(A17<>"",IF(AND(22>=$G17,22<=$H17),IF(22<=$G17+ROUND($F17*$D17,0)-1,2,1),""),"") | AK17: =IF(A17<>"",IF(AND(23>=$G17,23<=$H17),IF(23<=$G17+ROUND($F17*$D17,0)-1,2,1),""),"") | AL17: =IF(A17<>"",IF(AND(24>=$G17,24<=$H17),IF(24<=$G17+ROUND($F17*$D17,0)-1,2,1),""),"") | AM17: =IF(A17<>"",IF(AND(25>=$G17,25<=$H17),IF(25<=$G17+ROUND($F17*$D17,0)-1,2,1),""),"") | AN17: =IF(A17<>"",IF(AND(26>=$G17,26<=$H17),IF(26<=$G17+ROUND($F17*$D17,0)-1,2,1),""),"") | AO17: =IF(A17<>"",IF(AND(27>=$G17,27<=$H17),IF(27<=$G17+ROUND($F17*$D17,0)-1,2,1),""),"") | AP17: =IF(A17<>"",IF(AND(28>=$G17,28<=$H17),IF(28<=$G17+ROUND($F17*$D17,0)-1,2,1),""),"") | AQ17: =IF(A17<>"",IF(AND(29>=$G17,29<=$H17),IF(29<=$G17+ROUND($F17*$D17,0)-1,2,1),""),"") | AR17: =IF(A17<>"",IF(AND(30>=$G17,30<=$H17),IF(30<=$G17+ROUND($F17*$D17,0)-1,2,1),""),"")
A18: 13 | B18: Instalaciones electricas | C18: Instalaciones | D18: 2 | E18: 10 | F18: 0 | G18: =IF(A18<>"",IF(E18="",1,IFERROR(INDEX($H$6:$H$45,MATCH(E18,$A$6:$A$45,0))+1,1)),"") -> 15 | H18: =IF(A18<>"",G18+D18-1,"") -> 16 | I18: {=IF(A18<>"",IF(COUNTIF($E$6:$E$45,A18)=0,MAX($H$6:$H$45),IFERROR(MIN(IF($E$6:$E$45=A18,($I$6:$I$45-$D$6:$D$45+1))),MAX($H$6:$H$45)+1)-1),"")} -> 23 | J18: =IF(A18<>"",I18-H18,"") -> 7 | K18: =IF(A18<>"",IF(J18=0,"SI","no"),"") -> no | L18: =IF(A18<>"",IF(Portada!$C$13="Dias",Portada!$C$14+(G18-1),IF(Portada!$C$13="Semanas",Portada!$C$14+(G18-1)*7,EDATE(Portada!$C$14,(G18-1)))),"") -> 46333 | M18: =IF(A18<>"",IF(Portada!$C$13="Dias",Portada!$C$14+(H18)-1,IF(Portada!$C$13="Semanas",Portada!$C$14+(H18)*7-1,EDATE(Portada!$C$14,(H18))-1)),"") -> 46346 | N18: =IF(A18<>"",IF(COUNTIF($A$6:$A$45,A18)>1,"ID repetido",IF(AND(E18<>"",E18=A18),"Predec. = si misma",IF(AND(E18<>"",COUNTIF($A$6:$A$45,E18)=0),"Predec. no existe",IF(OR(D18="",D18<=0),"Falta duracion",IF(B18="","Falta nombre","OK"))))),"") -> OK | O18: =IF(A18<>"",IF(AND(1>=$G18,1<=$H18),IF(1<=$G18+ROUND($F18*$D18,0)-1,2,1),""),"") | P18: =IF(A18<>"",IF(AND(2>=$G18,2<=$H18),IF(2<=$G18+ROUND($F18*$D18,0)-1,2,1),""),"") | Q18: =IF(A18<>"",IF(AND(3>=$G18,3<=$H18),IF(3<=$G18+ROUND($F18*$D18,0)-1,2,1),""),"") | R18: =IF(A18<>"",IF(AND(4>=$G18,4<=$H18),IF(4<=$G18+ROUND($F18*$D18,0)-1,2,1),""),"") | S18: =IF(A18<>"",IF(AND(5>=$G18,5<=$H18),IF(5<=$G18+ROUND($F18*$D18,0)-1,2,1),""),"") | T18: =IF(A18<>"",IF(AND(6>=$G18,6<=$H18),IF(6<=$G18+ROUND($F18*$D18,0)-1,2,1),""),"") | U18: =IF(A18<>"",IF(AND(7>=$G18,7<=$H18),IF(7<=$G18+ROUND($F18*$D18,0)-1,2,1),""),"") | V18: =IF(A18<>"",IF(AND(8>=$G18,8<=$H18),IF(8<=$G18+ROUND($F18*$D18,0)-1,2,1),""),"") | W18: =IF(A18<>"",IF(AND(9>=$G18,9<=$H18),IF(9<=$G18+ROUND($F18*$D18,0)-1,2,1),""),"") | X18: =IF(A18<>"",IF(AND(10>=$G18,10<=$H18),IF(10<=$G18+ROUND($F18*$D18,0)-1,2,1),""),"") | Y18: =IF(A18<>"",IF(AND(11>=$G18,11<=$H18),IF(11<=$G18+ROUND($F18*$D18,0)-1,2,1),""),"") | Z18: =IF(A18<>"",IF(AND(12>=$G18,12<=$H18),IF(12<=$G18+ROUND($F18*$D18,0)-1,2,1),""),"") | AA18: =IF(A18<>"",IF(AND(13>=$G18,13<=$H18),IF(13<=$G18+ROUND($F18*$D18,0)-1,2,1),""),"") | AB18: =IF(A18<>"",IF(AND(14>=$G18,14<=$H18),IF(14<=$G18+ROUND($F18*$D18,0)-1,2,1),""),"") | AC18: =IF(A18<>"",IF(AND(15>=$G18,15<=$H18),IF(15<=$G18+ROUND($F18*$D18,0)-1,2,1),""),"") -> 1 | AD18: =IF(A18<>"",IF(AND(16>=$G18,16<=$H18),IF(16<=$G18+ROUND($F18*$D18,0)-1,2,1),""),"") -> 1 | AE18: =IF(A18<>"",IF(AND(17>=$G18,17<=$H18),IF(17<=$G18+ROUND($F18*$D18,0)-1,2,1),""),"") | AF18: =IF(A18<>"",IF(AND(18>=$G18,18<=$H18),IF(18<=$G18+ROUND($F18*$D18,0)-1,2,1),""),"") | AG18: =IF(A18<>"",IF(AND(19>=$G18,19<=$H18),IF(19<=$G18+ROUND($F18*$D18,0)-1,2,1),""),"") | AH18: =IF(A18<>"",IF(AND(20>=$G18,20<=$H18),IF(20<=$G18+ROUND($F18*$D18,0)-1,2,1),""),"") | AI18: =IF(A18<>"",IF(AND(21>=$G18,21<=$H18),IF(21<=$G18+ROUND($F18*$D18,0)-1,2,1),""),"") | AJ18: =IF(A18<>"",IF(AND(22>=$G18,22<=$H18),IF(22<=$G18+ROUND($F18*$D18,0)-1,2,1),""),"") | AK18: =IF(A18<>"",IF(AND(23>=$G18,23<=$H18),IF(23<=$G18+ROUND($F18*$D18,0)-1,2,1),""),"") | AL18: =IF(A18<>"",IF(AND(24>=$G18,24<=$H18),IF(24<=$G18+ROUND($F18*$D18,0)-1,2,1),""),"") | AM18: =IF(A18<>"",IF(AND(25>=$G18,25<=$H18),IF(25<=$G18+ROUND($F18*$D18,0)-1,2,1),""),"") | AN18: =IF(A18<>"",IF(AND(26>=$G18,26<=$H18),IF(26<=$G18+ROUND($F18*$D18,0)-1,2,1),""),"") | AO18: =IF(A18<>"",IF(AND(27>=$G18,27<=$H18),IF(27<=$G18+ROUND($F18*$D18,0)-1,2,1),""),"") | AP18: =IF(A18<>"",IF(AND(28>=$G18,28<=$H18),IF(28<=$G18+ROUND($F18*$D18,0)-1,2,1),""),"") | AQ18: =IF(A18<>"",IF(AND(29>=$G18,29<=$H18),IF(29<=$G18+ROUND($F18*$D18,0)-1,2,1),""),"") | AR18: =IF(A18<>"",IF(AND(30>=$G18,30<=$H18),IF(30<=$G18+ROUND($F18*$D18,0)-1,2,1),""),"")
... A24: 19 | B24: Aseo y entrega | C24: Entrega | D24: 1 | E24: 17 | F24: 0 | G24: =IF(A24<>"",IF(E24="",1,IFERROR(INDEX($H$6:$H$45,MATCH(E24,$A$6:$A$45,0))+1,1)),"") -> 23 | H24: =IF(A24<>"",G24+D24-1,"") -> 23 | I24: {=IF(A24<>"",IF(COUNTIF($E$6:$E$45,A24)=0,MAX($H$6:$H$45),IFERROR(MIN(IF($E$6:$E$45=A24,($I$6:$I$45-$D$6:$D$45+1))),MAX($H$6:$H$45)+1)-1),"")} -> 23 | J24: =IF(A24<>"",I24-H24,"") -> 0 | K24: =IF(A24<>"",IF(J24=0,"SI","no"),"") -> SI | L24: =IF(A24<>"",IF(Portada!$C$13="Dias",Portada!$C$14+(G24-1),IF(Portada!$C$13="Semanas",Portada!$C$14+(G24-1)*7,EDATE(Portada!$C$14,(G24-1)))),"") -> 46389 | M24: =IF(A24<>"",IF(Portada!$C$13="Dias",Portada!$C$14+(H24)-1,IF(Portada!$C$13="Semanas",Portada!$C$14+(H24)*7-1,EDATE(Portada!$C$14,(H24))-1)),"") -> 46395 | N24: =IF(A24<>"",IF(COUNTIF($A$6:$A$45,A24)>1,"ID repetido",IF(AND(E24<>"",E24=A24),"Predec. = si misma",IF(AND(E24<>"",COUNTIF($A$6:$A$45,E24)=0),"Predec. no existe",IF(OR(D24="",D24<=0),"Falta duracion",IF(B24="","Falta nombre","OK"))))),"") -> OK | O24: =IF(A24<>"",IF(AND(1>=$G24,1<=$H24),IF(1<=$G24+ROUND($F24*$D24,0)-1,2,1),""),"") | P24: =IF(A24<>"",IF(AND(2>=$G24,2<=$H24),IF(2<=$G24+ROUND($F24*$D24,0)-1,2,1),""),"") | Q24: =IF(A24<>"",IF(AND(3>=$G24,3<=$H24),IF(3<=$G24+ROUND($F24*$D24,0)-1,2,1),""),"") | R24: =IF(A24<>"",IF(AND(4>=$G24,4<=$H24),IF(4<=$G24+ROUND($F24*$D24,0)-1,2,1),""),"") | S24: =IF(A24<>"",IF(AND(5>=$G24,5<=$H24),IF(5<=$G24+ROUND($F24*$D24,0)-1,2,1),""),"") | T24: =IF(A24<>"",IF(AND(6>=$G24,6<=$H24),IF(6<=$G24+ROUND($F24*$D24,0)-1,2,1),""),"") | U24: =IF(A24<>"",IF(AND(7>=$G24,7<=$H24),IF(7<=$G24+ROUND($F24*$D24,0)-1,2,1),""),"") | V24: =IF(A24<>"",IF(AND(8>=$G24,8<=$H24),IF(8<=$G24+ROUND($F24*$D24,0)-1,2,1),""),"") | W24: =IF(A24<>"",IF(AND(9>=$G24,9<=$H24),IF(9<=$G24+ROUND($F24*$D24,0)-1,2,1),""),"") | X24: =IF(A24<>"",IF(AND(10>=$G24,10<=$H24),IF(10<=$G24+ROUND($F24*$D24,0)-1,2,1),""),"") | Y24: =IF(A24<>"",IF(AND(11>=$G24,11<=$H24),IF(11<=$G24+ROUND($F24*$D24,0)-1,2,1),""),"") | Z24: =IF(A24<>"",IF(AND(12>=$G24,12<=$H24),IF(12<=$G24+ROUND($F24*$D24,0)-1,2,1),""),"") | AA24: =IF(A24<>"",IF(AND(13>=$G24,13<=$H24),IF(13<=$G24+ROUND($F24*$D24,0)-1,2,1),""),"") | AB24: =IF(A24<>"",IF(AND(14>=$G24,14<=$H24),IF(14<=$G24+ROUND($F24*$D24,0)-1,2,1),""),"") | AC24: =IF(A24<>"",IF(AND(15>=$G24,15<=$H24),IF(15<=$G24+ROUND($F24*$D24,0)-1,2,1),""),"") | AD24: =IF(A24<>"",IF(AND(16>=$G24,16<=$H24),IF(16<=$G24+ROUND($F24*$D24,0)-1,2,1),""),"") | AE24: =IF(A24<>"",IF(AND(17>=$G24,17<=$H24),IF(17<=$G24+ROUND($F24*$D24,0)-1,2,1),""),"") | AF24: =IF(A24<>"",IF(AND(18>=$G24,18<=$H24),IF(18<=$G24+ROUND($F24*$D24,0)-1,2,1),""),"") | AG24: =IF(A24<>"",IF(AND(19>=$G24,19<=$H24),IF(19<=$G24+ROUND($F24*$D24,0)-1,2,1),""),"") | AH24: =IF(A24<>"",IF(AND(20>=$G24,20<=$H24),IF(20<=$G24+ROUND($F24*$D24,0)-1,2,1),""),"") | AI24: =IF(A24<>"",IF(AND(21>=$G24,21<=$H24),IF(21<=$G24+ROUND($F24*$D24,0)-1,2,1),""),"") | AJ24: =IF(A24<>"",IF(AND(22>=$G24,22<=$H24),IF(22<=$G24+ROUND($F24*$D24,0)-1,2,1),""),"") | AK24: =IF(A24<>"",IF(AND(23>=$G24,23<=$H24),IF(23<=$G24+ROUND($F24*$D24,0)-1,2,1),""),"") -> 1 | AL24: =IF(A24<>"",IF(AND(24>=$G24,24<=$H24),IF(24<=$G24+ROUND($F24*$D24,0)-1,2,1),""),"") | AM24: =IF(A24<>"",IF(AND(25>=$G24,25<=$H24),IF(25<=$G24+ROUND($F24*$D24,0)-1,2,1),""),"") | AN24: =IF(A24<>"",IF(AND(26>=$G24,26<=$H24),IF(26<=$G24+ROUND($F24*$D24,0)-1,2,1),""),"") | AO24: =IF(A24<>"",IF(AND(27>=$G24,27<=$H24),IF(27<=$G24+ROUND($F24*$D24,0)-1,2,1),""),"") | AP24: =IF(A24<>"",IF(AND(28>=$G24,28<=$H24),IF(28<=$G24+ROUND($F24*$D24,0)-1,2,1),""),"") | AQ24: =IF(A24<>"",IF(AND(29>=$G24,29<=$H24),IF(29<=$G24+ROUND($F24*$D24,0)-1,2,1),""),"") | AR24: =IF(A24<>"",IF(AND(30>=$G24,30<=$H24),IF(30<=$G24+ROUND($F24*$D24,0)-1,2,1),""),"")
G25: =IF(A25<>"",IF(E25="",1,IFERROR(INDEX($H$6:$H$45,MATCH(E25,$A$6:$A$45,0))+1,1)),"") | H25: =IF(A25<>"",G25+D25-1,"") | I25: {=IF(A25<>"",IF(COUNTIF($E$6:$E$45,A25)=0,MAX($H$6:$H$45),IFERROR(MIN(IF($E$6:$E$45=A25,($I$6:$I$45-$D$6:$D$45+1))),MAX($H$6:$H$45)+1)-1),"")} | J25: =IF(A25<>"",I25-H25,"") | K25: =IF(A25<>"",IF(J25=0,"SI","no"),"") | L25: =IF(A25<>"",IF(Portada!$C$13="Dias",Portada!$C$14+(G25-1),IF(Portada!$C$13="Semanas",Portada!$C$14+(G25-1)*7,EDATE(Portada!$C$14,(G25-1)))),"") | M25: =IF(A25<>"",IF(Portada!$C$13="Dias",Portada!$C$14+(H25)-1,IF(Portada!$C$13="Semanas",Portada!$C$14+(H25)*7-1,EDATE(Portada!$C$14,(H25))-1)),"") | N25: =IF(A25<>"",IF(COUNTIF($A$6:$A$45,A25)>1,"ID repetido",IF(AND(E25<>"",E25=A25),"Predec. = si misma",IF(AND(E25<>"",COUNTIF($A$6:$A$45,E25)=0),"Predec. no existe",IF(OR(D25="",D25<=0),"Falta duracion",IF(B25="","Falta nombre","OK"))))),"") | O25: =IF(A25<>"",IF(AND(1>=$G25,1<=$H25),IF(1<=$G25+ROUND($F25*$D25,0)-1,2,1),""),"") | P25: =IF(A25<>"",IF(AND(2>=$G25,2<=$H25),IF(2<=$G25+ROUND($F25*$D25,0)-1,2,1),""),"") | Q25: =IF(A25<>"",IF(AND(3>=$G25,3<=$H25),IF(3<=$G25+ROUND($F25*$D25,0)-1,2,1),""),"") | R25: =IF(A25<>"",IF(AND(4>=$G25,4<=$H25),IF(4<=$G25+ROUND($F25*$D25,0)-1,2,1),""),"") | S25: =IF(A25<>"",IF(AND(5>=$G25,5<=$H25),IF(5<=$G25+ROUND($F25*$D25,0)-1,2,1),""),"") | T25: =IF(A25<>"",IF(AND(6>=$G25,6<=$H25),IF(6<=$G25+ROUND($F25*$D25,0)-1,2,1),""),"") | U25: =IF(A25<>"",IF(AND(7>=$G25,7<=$H25),IF(7<=$G25+ROUND($F25*$D25,0)-1,2,1),""),"") | V25: =IF(A25<>"",IF(AND(8>=$G25,8<=$H25),IF(8<=$G25+ROUND($F25*$D25,0)-1,2,1),""),"") | W25: =IF(A25<>"",IF(AND(9>=$G25,9<=$H25),IF(9<=$G25+ROUND($F25*$D25,0)-1,2,1),""),"") | X25: =IF(A25<>"",IF(AND(10>=$G25,10<=$H25),IF(10<=$G25+ROUND($F25*$D25,0)-1,2,1),""),"") | Y25: =IF(A25<>"",IF(AND(11>=$G25,11<=$H25),IF(11<=$G25+ROUND($F25*$D25,0)-1,2,1),""),"") | Z25: =IF(A25<>"",IF(AND(12>=$G25,12<=$H25),IF(12<=$G25+ROUND($F25*$D25,0)-1,2,1),""),"") | AA25: =IF(A25<>"",IF(AND(13>=$G25,13<=$H25),IF(13<=$G25+ROUND($F25*$D25,0)-1,2,1),""),"") | AB25: =IF(A25<>"",IF(AND(14>=$G25,14<=$H25),IF(14<=$G25+ROUND($F25*$D25,0)-1,2,1),""),"") | AC25: =IF(A25<>"",IF(AND(15>=$G25,15<=$H25),IF(15<=$G25+ROUND($F25*$D25,0)-1,2,1),""),"") | AD25: =IF(A25<>"",IF(AND(16>=$G25,16<=$H25),IF(16<=$G25+ROUND($F25*$D25,0)-1,2,1),""),"") | AE25: =IF(A25<>"",IF(AND(17>=$G25,17<=$H25),IF(17<=$G25+ROUND($F25*$D25,0)-1,2,1),""),"") | AF25: =IF(A25<>"",IF(AND(18>=$G25,18<=$H25),IF(18<=$G25+ROUND($F25*$D25,0)-1,2,1),""),"") | AG25: =IF(A25<>"",IF(AND(19>=$G25,19<=$H25),IF(19<=$G25+ROUND($F25*$D25,0)-1,2,1),""),"") | AH25: =IF(A25<>"",IF(AND(20>=$G25,20<=$H25),IF(20<=$G25+ROUND($F25*$D25,0)-1,2,1),""),"") | AI25: =IF(A25<>"",IF(AND(21>=$G25,21<=$H25),IF(21<=$G25+ROUND($F25*$D25,0)-1,2,1),""),"") | AJ25: =IF(A25<>"",IF(AND(22>=$G25,22<=$H25),IF(22<=$G25+ROUND($F25*$D25,0)-1,2,1),""),"") | AK25: =IF(A25<>"",IF(AND(23>=$G25,23<=$H25),IF(23<=$G25+ROUND($F25*$D25,0)-1,2,1),""),"") | AL25: =IF(A25<>"",IF(AND(24>=$G25,24<=$H25),IF(24<=$G25+ROUND($F25*$D25,0)-1,2,1),""),"") | AM25: =IF(A25<>"",IF(AND(25>=$G25,25<=$H25),IF(25<=$G25+ROUND($F25*$D25,0)-1,2,1),""),"") | AN25: =IF(A25<>"",IF(AND(26>=$G25,26<=$H25),IF(26<=$G25+ROUND($F25*$D25,0)-1,2,1),""),"") | AO25: =IF(A25<>"",IF(AND(27>=$G25,27<=$H25),IF(27<=$G25+ROUND($F25*$D25,0)-1,2,1),""),"") | AP25: =IF(A25<>"",IF(AND(28>=$G25,28<=$H25),IF(28<=$G25+ROUND($F25*$D25,0)-1,2,1),""),"") | AQ25: =IF(A25<>"",IF(AND(29>=$G25,29<=$H25),IF(29<=$G25+ROUND($F25*$D25,0)-1,2,1),""),"") | AR25: =IF(A25<>"",IF(AND(30>=$G25,30<=$H25),IF(30<=$G25+ROUND($F25*$D25,0)-1,2,1),""),"")
G26: =IF(A26<>"",IF(E26="",1,IFERROR(INDEX($H$6:$H$45,MATCH(E26,$A$6:$A$45,0))+1,1)),"") | H26: =IF(A26<>"",G26+D26-1,"") | I26: {=IF(A26<>"",IF(COUNTIF($E$6:$E$45,A26)=0,MAX($H$6:$H$45),IFERROR(MIN(IF($E$6:$E$45=A26,($I$6:$I$45-$D$6:$D$45+1))),MAX($H$6:$H$45)+1)-1),"")} | J26: =IF(A26<>"",I26-H26,"") | K26: =IF(A26<>"",IF(J26=0,"SI","no"),"") | L26: =IF(A26<>"",IF(Portada!$C$13="Dias",Portada!$C$14+(G26-1),IF(Portada!$C$13="Semanas",Portada!$C$14+(G26-1)*7,EDATE(Portada!$C$14,(G26-1)))),"") | M26: =IF(A26<>"",IF(Portada!$C$13="Dias",Portada!$C$14+(H26)-1,IF(Portada!$C$13="Semanas",Portada!$C$14+(H26)*7-1,EDATE(Portada!$C$14,(H26))-1)),"") | N26: =IF(A26<>"",IF(COUNTIF($A$6:$A$45,A26)>1,"ID repetido",IF(AND(E26<>"",E26=A26),"Predec. = si misma",IF(AND(E26<>"",COUNTIF($A$6:$A$45,E26)=0),"Predec. no existe",IF(OR(D26="",D26<=0),"Falta duracion",IF(B26="","Falta nombre","OK"))))),"") | O26: =IF(A26<>"",IF(AND(1>=$G26,1<=$H26),IF(1<=$G26+ROUND($F26*$D26,0)-1,2,1),""),"") | P26: =IF(A26<>"",IF(AND(2>=$G26,2<=$H26),IF(2<=$G26+ROUND($F26*$D26,0)-1,2,1),""),"") | Q26: =IF(A26<>"",IF(AND(3>=$G26,3<=$H26),IF(3<=$G26+ROUND($F26*$D26,0)-1,2,1),""),"") | R26: =IF(A26<>"",IF(AND(4>=$G26,4<=$H26),IF(4<=$G26+ROUND($F26*$D26,0)-1,2,1),""),"") | S26: =IF(A26<>"",IF(AND(5>=$G26,5<=$H26),IF(5<=$G26+ROUND($F26*$D26,0)-1,2,1),""),"") | T26: =IF(A26<>"",IF(AND(6>=$G26,6<=$H26),IF(6<=$G26+ROUND($F26*$D26,0)-1,2,1),""),"") | U26: =IF(A26<>"",IF(AND(7>=$G26,7<=$H26),IF(7<=$G26+ROUND($F26*$D26,0)-1,2,1),""),"") | V26: =IF(A26<>"",IF(AND(8>=$G26,8<=$H26),IF(8<=$G26+ROUND($F26*$D26,0)-1,2,1),""),"") | W26: =IF(A26<>"",IF(AND(9>=$G26,9<=$H26),IF(9<=$G26+ROUND($F26*$D26,0)-1,2,1),""),"") | X26: =IF(A26<>"",IF(AND(10>=$G26,10<=$H26),IF(10<=$G26+ROUND($F26*$D26,0)-1,2,1),""),"") | Y26: =IF(A26<>"",IF(AND(11>=$G26,11<=$H26),IF(11<=$G26+ROUND($F26*$D26,0)-1,2,1),""),"") | Z26: =IF(A26<>"",IF(AND(12>=$G26,12<=$H26),IF(12<=$G26+ROUND($F26*$D26,0)-1,2,1),""),"") | AA26: =IF(A26<>"",IF(AND(13>=$G26,13<=$H26),IF(13<=$G26+ROUND($F26*$D26,0)-1,2,1),""),"") | AB26: =IF(A26<>"",IF(AND(14>=$G26,14<=$H26),IF(14<=$G26+ROUND($F26*$D26,0)-1,2,1),""),"") | AC26: =IF(A26<>"",IF(AND(15>=$G26,15<=$H26),IF(15<=$G26+ROUND($F26*$D26,0)-1,2,1),""),"") | AD26: =IF(A26<>"",IF(AND(16>=$G26,16<=$H26),IF(16<=$G26+ROUND($F26*$D26,0)-1,2,1),""),"") | AE26: =IF(A26<>"",IF(AND(17>=$G26,17<=$H26),IF(17<=$G26+ROUND($F26*$D26,0)-1,2,1),""),"") | AF26: =IF(A26<>"",IF(AND(18>=$G26,18<=$H26),IF(18<=$G26+ROUND($F26*$D26,0)-1,2,1),""),"") | AG26: =IF(A26<>"",IF(AND(19>=$G26,19<=$H26),IF(19<=$G26+ROUND($F26*$D26,0)-1,2,1),""),"") | AH26: =IF(A26<>"",IF(AND(20>=$G26,20<=$H26),IF(20<=$G26+ROUND($F26*$D26,0)-1,2,1),""),"") | AI26: =IF(A26<>"",IF(AND(21>=$G26,21<=$H26),IF(21<=$G26+ROUND($F26*$D26,0)-1,2,1),""),"") | AJ26: =IF(A26<>"",IF(AND(22>=$G26,22<=$H26),IF(22<=$G26+ROUND($F26*$D26,0)-1,2,1),""),"") | AK26: =IF(A26<>"",IF(AND(23>=$G26,23<=$H26),IF(23<=$G26+ROUND($F26*$D26,0)-1,2,1),""),"") | AL26: =IF(A26<>"",IF(AND(24>=$G26,24<=$H26),IF(24<=$G26+ROUND($F26*$D26,0)-1,2,1),""),"") | AM26: =IF(A26<>"",IF(AND(25>=$G26,25<=$H26),IF(25<=$G26+ROUND($F26*$D26,0)-1,2,1),""),"") | AN26: =IF(A26<>"",IF(AND(26>=$G26,26<=$H26),IF(26<=$G26+ROUND($F26*$D26,0)-1,2,1),""),"") | AO26: =IF(A26<>"",IF(AND(27>=$G26,27<=$H26),IF(27<=$G26+ROUND($F26*$D26,0)-1,2,1),""),"") | AP26: =IF(A26<>"",IF(AND(28>=$G26,28<=$H26),IF(28<=$G26+ROUND($F26*$D26,0)-1,2,1),""),"") | AQ26: =IF(A26<>"",IF(AND(29>=$G26,29<=$H26),IF(29<=$G26+ROUND($F26*$D26,0)-1,2,1),""),"") | AR26: =IF(A26<>"",IF(AND(30>=$G26,30<=$H26),IF(30<=$G26+ROUND($F26*$D26,0)-1,2,1),""),"")
G27: =IF(A27<>"",IF(E27="",1,IFERROR(INDEX($H$6:$H$45,MATCH(E27,$A$6:$A$45,0))+1,1)),"") | H27: =IF(A27<>"",G27+D27-1,"") | I27: {=IF(A27<>"",IF(COUNTIF($E$6:$E$45,A27)=0,MAX($H$6:$H$45),IFERROR(MIN(IF($E$6:$E$45=A27,($I$6:$I$45-$D$6:$D$45+1))),MAX($H$6:$H$45)+1)-1),"")} | J27: =IF(A27<>"",I27-H27,"") | K27: =IF(A27<>"",IF(J27=0,"SI","no"),"") | L27: =IF(A27<>"",IF(Portada!$C$13="Dias",Portada!$C$14+(G27-1),IF(Portada!$C$13="Semanas",Portada!$C$14+(G27-1)*7,EDATE(Portada!$C$14,(G27-1)))),"") | M27: =IF(A27<>"",IF(Portada!$C$13="Dias",Portada!$C$14+(H27)-1,IF(Portada!$C$13="Semanas",Portada!$C$14+(H27)*7-1,EDATE(Portada!$C$14,(H27))-1)),"") | N27: =IF(A27<>"",IF(COUNTIF($A$6:$A$45,A27)>1,"ID repetido",IF(AND(E27<>"",E27=A27),"Predec. = si misma",IF(AND(E27<>"",COUNTIF($A$6:$A$45,E27)=0),"Predec. no existe",IF(OR(D27="",D27<=0),"Falta duracion",IF(B27="","Falta nombre","OK"))))),"") | O27: =IF(A27<>"",IF(AND(1>=$G27,1<=$H27),IF(1<=$G27+ROUND($F27*$D27,0)-1,2,1),""),"") | P27: =IF(A27<>"",IF(AND(2>=$G27,2<=$H27),IF(2<=$G27+ROUND($F27*$D27,0)-1,2,1),""),"") | Q27: =IF(A27<>"",IF(AND(3>=$G27,3<=$H27),IF(3<=$G27+ROUND($F27*$D27,0)-1,2,1),""),"") | R27: =IF(A27<>"",IF(AND(4>=$G27,4<=$H27),IF(4<=$G27+ROUND($F27*$D27,0)-1,2,1),""),"") | S27: =IF(A27<>"",IF(AND(5>=$G27,5<=$H27),IF(5<=$G27+ROUND($F27*$D27,0)-1,2,1),""),"") | T27: =IF(A27<>"",IF(AND(6>=$G27,6<=$H27),IF(6<=$G27+ROUND($F27*$D27,0)-1,2,1),""),"") | U27: =IF(A27<>"",IF(AND(7>=$G27,7<=$H27),IF(7<=$G27+ROUND($F27*$D27,0)-1,2,1),""),"") | V27: =IF(A27<>"",IF(AND(8>=$G27,8<=$H27),IF(8<=$G27+ROUND($F27*$D27,0)-1,2,1),""),"") | W27: =IF(A27<>"",IF(AND(9>=$G27,9<=$H27),IF(9<=$G27+ROUND($F27*$D27,0)-1,2,1),""),"") | X27: =IF(A27<>"",IF(AND(10>=$G27,10<=$H27),IF(10<=$G27+ROUND($F27*$D27,0)-1,2,1),""),"") | Y27: =IF(A27<>"",IF(AND(11>=$G27,11<=$H27),IF(11<=$G27+ROUND($F27*$D27,0)-1,2,1),""),"") | Z27: =IF(A27<>"",IF(AND(12>=$G27,12<=$H27),IF(12<=$G27+ROUND($F27*$D27,0)-1,2,1),""),"") | AA27: =IF(A27<>"",IF(AND(13>=$G27,13<=$H27),IF(13<=$G27+ROUND($F27*$D27,0)-1,2,1),""),"") | AB27: =IF(A27<>"",IF(AND(14>=$G27,14<=$H27),IF(14<=$G27+ROUND($F27*$D27,0)-1,2,1),""),"") | AC27: =IF(A27<>"",IF(AND(15>=$G27,15<=$H27),IF(15<=$G27+ROUND($F27*$D27,0)-1,2,1),""),"") | AD27: =IF(A27<>"",IF(AND(16>=$G27,16<=$H27),IF(16<=$G27+ROUND($F27*$D27,0)-1,2,1),""),"") | AE27: =IF(A27<>"",IF(AND(17>=$G27,17<=$H27),IF(17<=$G27+ROUND($F27*$D27,0)-1,2,1),""),"") | AF27: =IF(A27<>"",IF(AND(18>=$G27,18<=$H27),IF(18<=$G27+ROUND($F27*$D27,0)-1,2,1),""),"") | AG27: =IF(A27<>"",IF(AND(19>=$G27,19<=$H27),IF(19<=$G27+ROUND($F27*$D27,0)-1,2,1),""),"") | AH27: =IF(A27<>"",IF(AND(20>=$G27,20<=$H27),IF(20<=$G27+ROUND($F27*$D27,0)-1,2,1),""),"") | AI27: =IF(A27<>"",IF(AND(21>=$G27,21<=$H27),IF(21<=$G27+ROUND($F27*$D27,0)-1,2,1),""),"") | AJ27: =IF(A27<>"",IF(AND(22>=$G27,22<=$H27),IF(22<=$G27+ROUND($F27*$D27,0)-1,2,1),""),"") | AK27: =IF(A27<>"",IF(AND(23>=$G27,23<=$H27),IF(23<=$G27+ROUND($F27*$D27,0)-1,2,1),""),"") | AL27: =IF(A27<>"",IF(AND(24>=$G27,24<=$H27),IF(24<=$G27+ROUND($F27*$D27,0)-1,2,1),""),"") | AM27: =IF(A27<>"",IF(AND(25>=$G27,25<=$H27),IF(25<=$G27+ROUND($F27*$D27,0)-1,2,1),""),"") | AN27: =IF(A27<>"",IF(AND(26>=$G27,26<=$H27),IF(26<=$G27+ROUND($F27*$D27,0)-1,2,1),""),"") | AO27: =IF(A27<>"",IF(AND(27>=$G27,27<=$H27),IF(27<=$G27+ROUND($F27*$D27,0)-1,2,1),""),"") | AP27: =IF(A27<>"",IF(AND(28>=$G27,28<=$H27),IF(28<=$G27+ROUND($F27*$D27,0)-1,2,1),""),"") | AQ27: =IF(A27<>"",IF(AND(29>=$G27,29<=$H27),IF(29<=$G27+ROUND($F27*$D27,0)-1,2,1),""),"") | AR27: =IF(A27<>"",IF(AND(30>=$G27,30<=$H27),IF(30<=$G27+ROUND($F27*$D27,0)-1,2,1),""),"")
G28: =IF(A28<>"",IF(E28="",1,IFERROR(INDEX($H$6:$H$45,MATCH(E28,$A$6:$A$45,0))+1,1)),"") | H28: =IF(A28<>"",G28+D28-1,"") | I28: {=IF(A28<>"",IF(COUNTIF($E$6:$E$45,A28)=0,MAX($H$6:$H$45),IFERROR(MIN(IF($E$6:$E$45=A28,($I$6:$I$45-$D$6:$D$45+1))),MAX($H$6:$H$45)+1)-1),"")} | J28: =IF(A28<>"",I28-H28,"") | K28: =IF(A28<>"",IF(J28=0,"SI","no"),"") | L28: =IF(A28<>"",IF(Portada!$C$13="Dias",Portada!$C$14+(G28-1),IF(Portada!$C$13="Semanas",Portada!$C$14+(G28-1)*7,EDATE(Portada!$C$14,(G28-1)))),"") | M28: =IF(A28<>"",IF(Portada!$C$13="Dias",Portada!$C$14+(H28)-1,IF(Portada!$C$13="Semanas",Portada!$C$14+(H28)*7-1,EDATE(Portada!$C$14,(H28))-1)),"") | N28: =IF(A28<>"",IF(COUNTIF($A$6:$A$45,A28)>1,"ID repetido",IF(AND(E28<>"",E28=A28),"Predec. = si misma",IF(AND(E28<>"",COUNTIF($A$6:$A$45,E28)=0),"Predec. no existe",IF(OR(D28="",D28<=0),"Falta duracion",IF(B28="","Falta nombre","OK"))))),"") | O28: =IF(A28<>"",IF(AND(1>=$G28,1<=$H28),IF(1<=$G28+ROUND($F28*$D28,0)-1,2,1),""),"") | P28: =IF(A28<>"",IF(AND(2>=$G28,2<=$H28),IF(2<=$G28+ROUND($F28*$D28,0)-1,2,1),""),"") | Q28: =IF(A28<>"",IF(AND(3>=$G28,3<=$H28),IF(3<=$G28+ROUND($F28*$D28,0)-1,2,1),""),"") | R28: =IF(A28<>"",IF(AND(4>=$G28,4<=$H28),IF(4<=$G28+ROUND($F28*$D28,0)-1,2,1),""),"") | S28: =IF(A28<>"",IF(AND(5>=$G28,5<=$H28),IF(5<=$G28+ROUND($F28*$D28,0)-1,2,1),""),"") | T28: =IF(A28<>"",IF(AND(6>=$G28,6<=$H28),IF(6<=$G28+ROUND($F28*$D28,0)-1,2,1),""),"") | U28: =IF(A28<>"",IF(AND(7>=$G28,7<=$H28),IF(7<=$G28+ROUND($F28*$D28,0)-1,2,1),""),"") | V28: =IF(A28<>"",IF(AND(8>=$G28,8<=$H28),IF(8<=$G28+ROUND($F28*$D28,0)-1,2,1),""),"") | W28: =IF(A28<>"",IF(AND(9>=$G28,9<=$H28),IF(9<=$G28+ROUND($F28*$D28,0)-1,2,1),""),"") | X28: =IF(A28<>"",IF(AND(10>=$G28,10<=$H28),IF(10<=$G28+ROUND($F28*$D28,0)-1,2,1),""),"") | Y28: =IF(A28<>"",IF(AND(11>=$G28,11<=$H28),IF(11<=$G28+ROUND($F28*$D28,0)-1,2,1),""),"") | Z28: =IF(A28<>"",IF(AND(12>=$G28,12<=$H28),IF(12<=$G28+ROUND($F28*$D28,0)-1,2,1),""),"") | AA28: =IF(A28<>"",IF(AND(13>=$G28,13<=$H28),IF(13<=$G28+ROUND($F28*$D28,0)-1,2,1),""),"") | AB28: =IF(A28<>"",IF(AND(14>=$G28,14<=$H28),IF(14<=$G28+ROUND($F28*$D28,0)-1,2,1),""),"") | AC28: =IF(A28<>"",IF(AND(15>=$G28,15<=$H28),IF(15<=$G28+ROUND($F28*$D28,0)-1,2,1),""),"") | AD28: =IF(A28<>"",IF(AND(16>=$G28,16<=$H28),IF(16<=$G28+ROUND($F28*$D28,0)-1,2,1),""),"") | AE28: =IF(A28<>"",IF(AND(17>=$G28,17<=$H28),IF(17<=$G28+ROUND($F28*$D28,0)-1,2,1),""),"") | AF28: =IF(A28<>"",IF(AND(18>=$G28,18<=$H28),IF(18<=$G28+ROUND($F28*$D28,0)-1,2,1),""),"") | AG28: =IF(A28<>"",IF(AND(19>=$G28,19<=$H28),IF(19<=$G28+ROUND($F28*$D28,0)-1,2,1),""),"") | AH28: =IF(A28<>"",IF(AND(20>=$G28,20<=$H28),IF(20<=$G28+ROUND($F28*$D28,0)-1,2,1),""),"") | AI28: =IF(A28<>"",IF(AND(21>=$G28,21<=$H28),IF(21<=$G28+ROUND($F28*$D28,0)-1,2,1),""),"") | AJ28: =IF(A28<>"",IF(AND(22>=$G28,22<=$H28),IF(22<=$G28+ROUND($F28*$D28,0)-1,2,1),""),"") | AK28: =IF(A28<>"",IF(AND(23>=$G28,23<=$H28),IF(23<=$G28+ROUND($F28*$D28,0)-1,2,1),""),"") | AL28: =IF(A28<>"",IF(AND(24>=$G28,24<=$H28),IF(24<=$G28+ROUND($F28*$D28,0)-1,2,1),""),"") | AM28: =IF(A28<>"",IF(AND(25>=$G28,25<=$H28),IF(25<=$G28+ROUND($F28*$D28,0)-1,2,1),""),"") | AN28: =IF(A28<>"",IF(AND(26>=$G28,26<=$H28),IF(26<=$G28+ROUND($F28*$D28,0)-1,2,1),""),"") | AO28: =IF(A28<>"",IF(AND(27>=$G28,27<=$H28),IF(27<=$G28+ROUND($F28*$D28,0)-1,2,1),""),"") | AP28: =IF(A28<>"",IF(AND(28>=$G28,28<=$H28),IF(28<=$G28+ROUND($F28*$D28,0)-1,2,1),""),"") | AQ28: =IF(A28<>"",IF(AND(29>=$G28,29<=$H28),IF(29<=$G28+ROUND($F28*$D28,0)-1,2,1),""),"") | AR28: =IF(A28<>"",IF(AND(30>=$G28,30<=$H28),IF(30<=$G28+ROUND($F28*$D28,0)-1,2,1),""),"")
G29: =IF(A29<>"",IF(E29="",1,IFERROR(INDEX($H$6:$H$45,MATCH(E29,$A$6:$A$45,0))+1,1)),"") | H29: =IF(A29<>"",G29+D29-1,"") | I29: {=IF(A29<>"",IF(COUNTIF($E$6:$E$45,A29)=0,MAX($H$6:$H$45),IFERROR(MIN(IF($E$6:$E$45=A29,($I$6:$I$45-$D$6:$D$45+1))),MAX($H$6:$H$45)+1)-1),"")} | J29: =IF(A29<>"",I29-H29,"") | K29: =IF(A29<>"",IF(J29=0,"SI","no"),"") | L29: =IF(A29<>"",IF(Portada!$C$13="Dias",Portada!$C$14+(G29-1),IF(Portada!$C$13="Semanas",Portada!$C$14+(G29-1)*7,EDATE(Portada!$C$14,(G29-1)))),"") | M29: =IF(A29<>"",IF(Portada!$C$13="Dias",Portada!$C$14+(H29)-1,IF(Portada!$C$13="Semanas",Portada!$C$14+(H29)*7-1,EDATE(Portada!$C$14,(H29))-1)),"") | N29: =IF(A29<>"",IF(COUNTIF($A$6:$A$45,A29)>1,"ID repetido",IF(AND(E29<>"",E29=A29),"Predec. = si misma",IF(AND(E29<>"",COUNTIF($A$6:$A$45,E29)=0),"Predec. no existe",IF(OR(D29="",D29<=0),"Falta duracion",IF(B29="","Falta nombre","OK"))))),"") | O29: =IF(A29<>"",IF(AND(1>=$G29,1<=$H29),IF(1<=$G29+ROUND($F29*$D29,0)-1,2,1),""),"") | P29: =IF(A29<>"",IF(AND(2>=$G29,2<=$H29),IF(2<=$G29+ROUND($F29*$D29,0)-1,2,1),""),"") | Q29: =IF(A29<>"",IF(AND(3>=$G29,3<=$H29),IF(3<=$G29+ROUND($F29*$D29,0)-1,2,1),""),"") | R29: =IF(A29<>"",IF(AND(4>=$G29,4<=$H29),IF(4<=$G29+ROUND($F29*$D29,0)-1,2,1),""),"") | S29: =IF(A29<>"",IF(AND(5>=$G29,5<=$H29),IF(5<=$G29+ROUND($F29*$D29,0)-1,2,1),""),"") | T29: =IF(A29<>"",IF(AND(6>=$G29,6<=$H29),IF(6<=$G29+ROUND($F29*$D29,0)-1,2,1),""),"") | U29: =IF(A29<>"",IF(AND(7>=$G29,7<=$H29),IF(7<=$G29+ROUND($F29*$D29,0)-1,2,1),""),"") | V29: =IF(A29<>"",IF(AND(8>=$G29,8<=$H29),IF(8<=$G29+ROUND($F29*$D29,0)-1,2,1),""),"") | W29: =IF(A29<>"",IF(AND(9>=$G29,9<=$H29),IF(9<=$G29+ROUND($F29*$D29,0)-1,2,1),""),"") | X29: =IF(A29<>"",IF(AND(10>=$G29,10<=$H29),IF(10<=$G29+ROUND($F29*$D29,0)-1,2,1),""),"") | Y29: =IF(A29<>"",IF(AND(11>=$G29,11<=$H29),IF(11<=$G29+ROUND($F29*$D29,0)-1,2,1),""),"") | Z29: =IF(A29<>"",IF(AND(12>=$G29,12<=$H29),IF(12<=$G29+ROUND($F29*$D29,0)-1,2,1),""),"") | AA29: =IF(A29<>"",IF(AND(13>=$G29,13<=$H29),IF(13<=$G29+ROUND($F29*$D29,0)-1,2,1),""),"") | AB29: =IF(A29<>"",IF(AND(14>=$G29,14<=$H29),IF(14<=$G29+ROUND($F29*$D29,0)-1,2,1),""),"") | AC29: =IF(A29<>"",IF(AND(15>=$G29,15<=$H29),IF(15<=$G29+ROUND($F29*$D29,0)-1,2,1),""),"") | AD29: =IF(A29<>"",IF(AND(16>=$G29,16<=$H29),IF(16<=$G29+ROUND($F29*$D29,0)-1,2,1),""),"") | AE29: =IF(A29<>"",IF(AND(17>=$G29,17<=$H29),IF(17<=$G29+ROUND($F29*$D29,0)-1,2,1),""),"") | AF29: =IF(A29<>"",IF(AND(18>=$G29,18<=$H29),IF(18<=$G29+ROUND($F29*$D29,0)-1,2,1),""),"") | AG29: =IF(A29<>"",IF(AND(19>=$G29,19<=$H29),IF(19<=$G29+ROUND($F29*$D29,0)-1,2,1),""),"") | AH29: =IF(A29<>"",IF(AND(20>=$G29,20<=$H29),IF(20<=$G29+ROUND($F29*$D29,0)-1,2,1),""),"") | AI29: =IF(A29<>"",IF(AND(21>=$G29,21<=$H29),IF(21<=$G29+ROUND($F29*$D29,0)-1,2,1),""),"") | AJ29: =IF(A29<>"",IF(AND(22>=$G29,22<=$H29),IF(22<=$G29+ROUND($F29*$D29,0)-1,2,1),""),"") | AK29: =IF(A29<>"",IF(AND(23>=$G29,23<=$H29),IF(23<=$G29+ROUND($F29*$D29,0)-1,2,1),""),"") | AL29: =IF(A29<>"",IF(AND(24>=$G29,24<=$H29),IF(24<=$G29+ROUND($F29*$D29,0)-1,2,1),""),"") | AM29: =IF(A29<>"",IF(AND(25>=$G29,25<=$H29),IF(25<=$G29+ROUND($F29*$D29,0)-1,2,1),""),"") | AN29: =IF(A29<>"",IF(AND(26>=$G29,26<=$H29),IF(26<=$G29+ROUND($F29*$D29,0)-1,2,1),""),"") | AO29: =IF(A29<>"",IF(AND(27>=$G29,27<=$H29),IF(27<=$G29+ROUND($F29*$D29,0)-1,2,1),""),"") | AP29: =IF(A29<>"",IF(AND(28>=$G29,28<=$H29),IF(28<=$G29+ROUND($F29*$D29,0)-1,2,1),""),"") | AQ29: =IF(A29<>"",IF(AND(29>=$G29,29<=$H29),IF(29<=$G29+ROUND($F29*$D29,0)-1,2,1),""),"") | AR29: =IF(A29<>"",IF(AND(30>=$G29,30<=$H29),IF(30<=$G29+ROUND($F29*$D29,0)-1,2,1),""),"")
G30: =IF(A30<>"",IF(E30="",1,IFERROR(INDEX($H$6:$H$45,MATCH(E30,$A$6:$A$45,0))+1,1)),"") | H30: =IF(A30<>"",G30+D30-1,"") | I30: {=IF(A30<>"",IF(COUNTIF($E$6:$E$45,A30)=0,MAX($H$6:$H$45),IFERROR(MIN(IF($E$6:$E$45=A30,($I$6:$I$45-$D$6:$D$45+1))),MAX($H$6:$H$45)+1)-1),"")} | J30: =IF(A30<>"",I30-H30,"") | K30: =IF(A30<>"",IF(J30=0,"SI","no"),"") | L30: =IF(A30<>"",IF(Portada!$C$13="Dias",Portada!$C$14+(G30-1),IF(Portada!$C$13="Semanas",Portada!$C$14+(G30-1)*7,EDATE(Portada!$C$14,(G30-1)))),"") | M30: =IF(A30<>"",IF(Portada!$C$13="Dias",Portada!$C$14+(H30)-1,IF(Portada!$C$13="Semanas",Portada!$C$14+(H30)*7-1,EDATE(Portada!$C$14,(H30))-1)),"") | N30: =IF(A30<>"",IF(COUNTIF($A$6:$A$45,A30)>1,"ID repetido",IF(AND(E30<>"",E30=A30),"Predec. = si misma",IF(AND(E30<>"",COUNTIF($A$6:$A$45,E30)=0),"Predec. no existe",IF(OR(D30="",D30<=0),"Falta duracion",IF(B30="","Falta nombre","OK"))))),"") | O30: =IF(A30<>"",IF(AND(1>=$G30,1<=$H30),IF(1<=$G30+ROUND($F30*$D30,0)-1,2,1),""),"") | P30: =IF(A30<>"",IF(AND(2>=$G30,2<=$H30),IF(2<=$G30+ROUND($F30*$D30,0)-1,2,1),""),"") | Q30: =IF(A30<>"",IF(AND(3>=$G30,3<=$H30),IF(3<=$G30+ROUND($F30*$D30,0)-1,2,1),""),"") | R30: =IF(A30<>"",IF(AND(4>=$G30,4<=$H30),IF(4<=$G30+ROUND($F30*$D30,0)-1,2,1),""),"") | S30: =IF(A30<>"",IF(AND(5>=$G30,5<=$H30),IF(5<=$G30+ROUND($F30*$D30,0)-1,2,1),""),"") | T30: =IF(A30<>"",IF(AND(6>=$G30,6<=$H30),IF(6<=$G30+ROUND($F30*$D30,0)-1,2,1),""),"") | U30: =IF(A30<>"",IF(AND(7>=$G30,7<=$H30),IF(7<=$G30+ROUND($F30*$D30,0)-1,2,1),""),"") | V30: =IF(A30<>"",IF(AND(8>=$G30,8<=$H30),IF(8<=$G30+ROUND($F30*$D30,0)-1,2,1),""),"") | W30: =IF(A30<>"",IF(AND(9>=$G30,9<=$H30),IF(9<=$G30+ROUND($F30*$D30,0)-1,2,1),""),"") | X30: =IF(A30<>"",IF(AND(10>=$G30,10<=$H30),IF(10<=$G30+ROUND($F30*$D30,0)-1,2,1),""),"") | Y30: =IF(A30<>"",IF(AND(11>=$G30,11<=$H30),IF(11<=$G30+ROUND($F30*$D30,0)-1,2,1),""),"") | Z30: =IF(A30<>"",IF(AND(12>=$G30,12<=$H30),IF(12<=$G30+ROUND($F30*$D30,0)-1,2,1),""),"") | AA30: =IF(A30<>"",IF(AND(13>=$G30,13<=$H30),IF(13<=$G30+ROUND($F30*$D30,0)-1,2,1),""),"") | AB30: =IF(A30<>"",IF(AND(14>=$G30,14<=$H30),IF(14<=$G30+ROUND($F30*$D30,0)-1,2,1),""),"") | AC30: =IF(A30<>"",IF(AND(15>=$G30,15<=$H30),IF(15<=$G30+ROUND($F30*$D30,0)-1,2,1),""),"") | AD30: =IF(A30<>"",IF(AND(16>=$G30,16<=$H30),IF(16<=$G30+ROUND($F30*$D30,0)-1,2,1),""),"") | AE30: =IF(A30<>"",IF(AND(17>=$G30,17<=$H30),IF(17<=$G30+ROUND($F30*$D30,0)-1,2,1),""),"") | AF30: =IF(A30<>"",IF(AND(18>=$G30,18<=$H30),IF(18<=$G30+ROUND($F30*$D30,0)-1,2,1),""),"") | AG30: =IF(A30<>"",IF(AND(19>=$G30,19<=$H30),IF(19<=$G30+ROUND($F30*$D30,0)-1,2,1),""),"") | AH30: =IF(A30<>"",IF(AND(20>=$G30,20<=$H30),IF(20<=$G30+ROUND($F30*$D30,0)-1,2,1),""),"") | AI30: =IF(A30<>"",IF(AND(21>=$G30,21<=$H30),IF(21<=$G30+ROUND($F30*$D30,0)-1,2,1),""),"") | AJ30: =IF(A30<>"",IF(AND(22>=$G30,22<=$H30),IF(22<=$G30+ROUND($F30*$D30,0)-1,2,1),""),"") | AK30: =IF(A30<>"",IF(AND(23>=$G30,23<=$H30),IF(23<=$G30+ROUND($F30*$D30,0)-1,2,1),""),"") | AL30: =IF(A30<>"",IF(AND(24>=$G30,24<=$H30),IF(24<=$G30+ROUND($F30*$D30,0)-1,2,1),""),"") | AM30: =IF(A30<>"",IF(AND(25>=$G30,25<=$H30),IF(25<=$G30+ROUND($F30*$D30,0)-1,2,1),""),"") | AN30: =IF(A30<>"",IF(AND(26>=$G30,26<=$H30),IF(26<=$G30+ROUND($F30*$D30,0)-1,2,1),""),"") | AO30: =IF(A30<>"",IF(AND(27>=$G30,27<=$H30),IF(27<=$G30+ROUND($F30*$D30,0)-1,2,1),""),"") | AP30: =IF(A30<>"",IF(AND(28>=$G30,28<=$H30),IF(28<=$G30+ROUND($F30*$D30,0)-1,2,1),""),"") | AQ30: =IF(A30<>"",IF(AND(29>=$G30,29<=$H30),IF(29<=$G30+ROUND($F30*$D30,0)-1,2,1),""),"") | AR30: =IF(A30<>"",IF(AND(30>=$G30,30<=$H30),IF(30<=$G30+ROUND($F30*$D30,0)-1,2,1),""),"")
G31: =IF(A31<>"",IF(E31="",1,IFERROR(INDEX($H$6:$H$45,MATCH(E31,$A$6:$A$45,0))+1,1)),"") | H31: =IF(A31<>"",G31+D31-1,"") | I31: {=IF(A31<>"",IF(COUNTIF($E$6:$E$45,A31)=0,MAX($H$6:$H$45),IFERROR(MIN(IF($E$6:$E$45=A31,($I$6:$I$45-$D$6:$D$45+1))),MAX($H$6:$H$45)+1)-1),"")} | J31: =IF(A31<>"",I31-H31,"") | K31: =IF(A31<>"",IF(J31=0,"SI","no"),"") | L31: =IF(A31<>"",IF(Portada!$C$13="Dias",Portada!$C$14+(G31-1),IF(Portada!$C$13="Semanas",Portada!$C$14+(G31-1)*7,EDATE(Portada!$C$14,(G31-1)))),"") | M31: =IF(A31<>"",IF(Portada!$C$13="Dias",Portada!$C$14+(H31)-1,IF(Portada!$C$13="Semanas",Portada!$C$14+(H31)*7-1,EDATE(Portada!$C$14,(H31))-1)),"") | N31: =IF(A31<>"",IF(COUNTIF($A$6:$A$45,A31)>1,"ID repetido",IF(AND(E31<>"",E31=A31),"Predec. = si misma",IF(AND(E31<>"",COUNTIF($A$6:$A$45,E31)=0),"Predec. no existe",IF(OR(D31="",D31<=0),"Falta duracion",IF(B31="","Falta nombre","OK"))))),"") | O31: =IF(A31<>"",IF(AND(1>=$G31,1<=$H31),IF(1<=$G31+ROUND($F31*$D31,0)-1,2,1),""),"") | P31: =IF(A31<>"",IF(AND(2>=$G31,2<=$H31),IF(2<=$G31+ROUND($F31*$D31,0)-1,2,1),""),"") | Q31: =IF(A31<>"",IF(AND(3>=$G31,3<=$H31),IF(3<=$G31+ROUND($F31*$D31,0)-1,2,1),""),"") | R31: =IF(A31<>"",IF(AND(4>=$G31,4<=$H31),IF(4<=$G31+ROUND($F31*$D31,0)-1,2,1),""),"") | S31: =IF(A31<>"",IF(AND(5>=$G31,5<=$H31),IF(5<=$G31+ROUND($F31*$D31,0)-1,2,1),""),"") | T31: =IF(A31<>"",IF(AND(6>=$G31,6<=$H31),IF(6<=$G31+ROUND($F31*$D31,0)-1,2,1),""),"") | U31: =IF(A31<>"",IF(AND(7>=$G31,7<=$H31),IF(7<=$G31+ROUND($F31*$D31,0)-1,2,1),""),"") | V31: =IF(A31<>"",IF(AND(8>=$G31,8<=$H31),IF(8<=$G31+ROUND($F31*$D31,0)-1,2,1),""),"") | W31: =IF(A31<>"",IF(AND(9>=$G31,9<=$H31),IF(9<=$G31+ROUND($F31*$D31,0)-1,2,1),""),"") | X31: =IF(A31<>"",IF(AND(10>=$G31,10<=$H31),IF(10<=$G31+ROUND($F31*$D31,0)-1,2,1),""),"") | Y31: =IF(A31<>"",IF(AND(11>=$G31,11<=$H31),IF(11<=$G31+ROUND($F31*$D31,0)-1,2,1),""),"") | Z31: =IF(A31<>"",IF(AND(12>=$G31,12<=$H31),IF(12<=$G31+ROUND($F31*$D31,0)-1,2,1),""),"") | AA31: =IF(A31<>"",IF(AND(13>=$G31,13<=$H31),IF(13<=$G31+ROUND($F31*$D31,0)-1,2,1),""),"") | AB31: =IF(A31<>"",IF(AND(14>=$G31,14<=$H31),IF(14<=$G31+ROUND($F31*$D31,0)-1,2,1),""),"") | AC31: =IF(A31<>"",IF(AND(15>=$G31,15<=$H31),IF(15<=$G31+ROUND($F31*$D31,0)-1,2,1),""),"") | AD31: =IF(A31<>"",IF(AND(16>=$G31,16<=$H31),IF(16<=$G31+ROUND($F31*$D31,0)-1,2,1),""),"") | AE31: =IF(A31<>"",IF(AND(17>=$G31,17<=$H31),IF(17<=$G31+ROUND($F31*$D31,0)-1,2,1),""),"") | AF31: =IF(A31<>"",IF(AND(18>=$G31,18<=$H31),IF(18<=$G31+ROUND($F31*$D31,0)-1,2,1),""),"") | AG31: =IF(A31<>"",IF(AND(19>=$G31,19<=$H31),IF(19<=$G31+ROUND($F31*$D31,0)-1,2,1),""),"") | AH31: =IF(A31<>"",IF(AND(20>=$G31,20<=$H31),IF(20<=$G31+ROUND($F31*$D31,0)-1,2,1),""),"") | AI31: =IF(A31<>"",IF(AND(21>=$G31,21<=$H31),IF(21<=$G31+ROUND($F31*$D31,0)-1,2,1),""),"") | AJ31: =IF(A31<>"",IF(AND(22>=$G31,22<=$H31),IF(22<=$G31+ROUND($F31*$D31,0)-1,2,1),""),"") | AK31: =IF(A31<>"",IF(AND(23>=$G31,23<=$H31),IF(23<=$G31+ROUND($F31*$D31,0)-1,2,1),""),"") | AL31: =IF(A31<>"",IF(AND(24>=$G31,24<=$H31),IF(24<=$G31+ROUND($F31*$D31,0)-1,2,1),""),"") | AM31: =IF(A31<>"",IF(AND(25>=$G31,25<=$H31),IF(25<=$G31+ROUND($F31*$D31,0)-1,2,1),""),"") | AN31: =IF(A31<>"",IF(AND(26>=$G31,26<=$H31),IF(26<=$G31+ROUND($F31*$D31,0)-1,2,1),""),"") | AO31: =IF(A31<>"",IF(AND(27>=$G31,27<=$H31),IF(27<=$G31+ROUND($F31*$D31,0)-1,2,1),""),"") | AP31: =IF(A31<>"",IF(AND(28>=$G31,28<=$H31),IF(28<=$G31+ROUND($F31*$D31,0)-1,2,1),""),"") | AQ31: =IF(A31<>"",IF(AND(29>=$G31,29<=$H31),IF(29<=$G31+ROUND($F31*$D31,0)-1,2,1),""),"") | AR31: =IF(A31<>"",IF(AND(30>=$G31,30<=$H31),IF(30<=$G31+ROUND($F31*$D31,0)-1,2,1),""),"")
G32: =IF(A32<>"",IF(E32="",1,IFERROR(INDEX($H$6:$H$45,MATCH(E32,$A$6:$A$45,0))+1,1)),"") | H32: =IF(A32<>"",G32+D32-1,"") | I32: {=IF(A32<>"",IF(COUNTIF($E$6:$E$45,A32)=0,MAX($H$6:$H$45),IFERROR(MIN(IF($E$6:$E$45=A32,($I$6:$I$45-$D$6:$D$45+1))),MAX($H$6:$H$45)+1)-1),"")} | J32: =IF(A32<>"",I32-H32,"") | K32: =IF(A32<>"",IF(J32=0,"SI","no"),"") | L32: =IF(A32<>"",IF(Portada!$C$13="Dias",Portada!$C$14+(G32-1),IF(Portada!$C$13="Semanas",Portada!$C$14+(G32-1)*7,EDATE(Portada!$C$14,(G32-1)))),"") | M32: =IF(A32<>"",IF(Portada!$C$13="Dias",Portada!$C$14+(H32)-1,IF(Portada!$C$13="Semanas",Portada!$C$14+(H32)*7-1,EDATE(Portada!$C$14,(H32))-1)),"") | N32: =IF(A32<>"",IF(COUNTIF($A$6:$A$45,A32)>1,"ID repetido",IF(AND(E32<>"",E32=A32),"Predec. = si misma",IF(AND(E32<>"",COUNTIF($A$6:$A$45,E32)=0),"Predec. no existe",IF(OR(D32="",D32<=0),"Falta duracion",IF(B32="","Falta nombre","OK"))))),"") | O32: =IF(A32<>"",IF(AND(1>=$G32,1<=$H32),IF(1<=$G32+ROUND($F32*$D32,0)-1,2,1),""),"") | P32: =IF(A32<>"",IF(AND(2>=$G32,2<=$H32),IF(2<=$G32+ROUND($F32*$D32,0)-1,2,1),""),"") | Q32: =IF(A32<>"",IF(AND(3>=$G32,3<=$H32),IF(3<=$G32+ROUND($F32*$D32,0)-1,2,1),""),"") | R32: =IF(A32<>"",IF(AND(4>=$G32,4<=$H32),IF(4<=$G32+ROUND($F32*$D32,0)-1,2,1),""),"") | S32: =IF(A32<>"",IF(AND(5>=$G32,5<=$H32),IF(5<=$G32+ROUND($F32*$D32,0)-1,2,1),""),"") | T32: =IF(A32<>"",IF(AND(6>=$G32,6<=$H32),IF(6<=$G32+ROUND($F32*$D32,0)-1,2,1),""),"") | U32: =IF(A32<>"",IF(AND(7>=$G32,7<=$H32),IF(7<=$G32+ROUND($F32*$D32,0)-1,2,1),""),"") | V32: =IF(A32<>"",IF(AND(8>=$G32,8<=$H32),IF(8<=$G32+ROUND($F32*$D32,0)-1,2,1),""),"") | W32: =IF(A32<>"",IF(AND(9>=$G32,9<=$H32),IF(9<=$G32+ROUND($F32*$D32,0)-1,2,1),""),"") | X32: =IF(A32<>"",IF(AND(10>=$G32,10<=$H32),IF(10<=$G32+ROUND($F32*$D32,0)-1,2,1),""),"") | Y32: =IF(A32<>"",IF(AND(11>=$G32,11<=$H32),IF(11<=$G32+ROUND($F32*$D32,0)-1,2,1),""),"") | Z32: =IF(A32<>"",IF(AND(12>=$G32,12<=$H32),IF(12<=$G32+ROUND($F32*$D32,0)-1,2,1),""),"") | AA32: =IF(A32<>"",IF(AND(13>=$G32,13<=$H32),IF(13<=$G32+ROUND($F32*$D32,0)-1,2,1),""),"") | AB32: =IF(A32<>"",IF(AND(14>=$G32,14<=$H32),IF(14<=$G32+ROUND($F32*$D32,0)-1,2,1),""),"") | AC32: =IF(A32<>"",IF(AND(15>=$G32,15<=$H32),IF(15<=$G32+ROUND($F32*$D32,0)-1,2,1),""),"") | AD32: =IF(A32<>"",IF(AND(16>=$G32,16<=$H32),IF(16<=$G32+ROUND($F32*$D32,0)-1,2,1),""),"") | AE32: =IF(A32<>"",IF(AND(17>=$G32,17<=$H32),IF(17<=$G32+ROUND($F32*$D32,0)-1,2,1),""),"") | AF32: =IF(A32<>"",IF(AND(18>=$G32,18<=$H32),IF(18<=$G32+ROUND($F32*$D32,0)-1,2,1),""),"") | AG32: =IF(A32<>"",IF(AND(19>=$G32,19<=$H32),IF(19<=$G32+ROUND($F32*$D32,0)-1,2,1),""),"") | AH32: =IF(A32<>"",IF(AND(20>=$G32,20<=$H32),IF(20<=$G32+ROUND($F32*$D32,0)-1,2,1),""),"") | AI32: =IF(A32<>"",IF(AND(21>=$G32,21<=$H32),IF(21<=$G32+ROUND($F32*$D32,0)-1,2,1),""),"") | AJ32: =IF(A32<>"",IF(AND(22>=$G32,22<=$H32),IF(22<=$G32+ROUND($F32*$D32,0)-1,2,1),""),"") | AK32: =IF(A32<>"",IF(AND(23>=$G32,23<=$H32),IF(23<=$G32+ROUND($F32*$D32,0)-1,2,1),""),"") | AL32: =IF(A32<>"",IF(AND(24>=$G32,24<=$H32),IF(24<=$G32+ROUND($F32*$D32,0)-1,2,1),""),"") | AM32: =IF(A32<>"",IF(AND(25>=$G32,25<=$H32),IF(25<=$G32+ROUND($F32*$D32,0)-1,2,1),""),"") | AN32: =IF(A32<>"",IF(AND(26>=$G32,26<=$H32),IF(26<=$G32+ROUND($F32*$D32,0)-1,2,1),""),"") | AO32: =IF(A32<>"",IF(AND(27>=$G32,27<=$H32),IF(27<=$G32+ROUND($F32*$D32,0)-1,2,1),""),"") | AP32: =IF(A32<>"",IF(AND(28>=$G32,28<=$H32),IF(28<=$G32+ROUND($F32*$D32,0)-1,2,1),""),"") | AQ32: =IF(A32<>"",IF(AND(29>=$G32,29<=$H32),IF(29<=$G32+ROUND($F32*$D32,0)-1,2,1),""),"") | AR32: =IF(A32<>"",IF(AND(30>=$G32,30<=$H32),IF(30<=$G32+ROUND($F32*$D32,0)-1,2,1),""),"")
G33: =IF(A33<>"",IF(E33="",1,IFERROR(INDEX($H$6:$H$45,MATCH(E33,$A$6:$A$45,0))+1,1)),"") | H33: =IF(A33<>"",G33+D33-1,"") | I33: {=IF(A33<>"",IF(COUNTIF($E$6:$E$45,A33)=0,MAX($H$6:$H$45),IFERROR(MIN(IF($E$6:$E$45=A33,($I$6:$I$45-$D$6:$D$45+1))),MAX($H$6:$H$45)+1)-1),"")} | J33: =IF(A33<>"",I33-H33,"") | K33: =IF(A33<>"",IF(J33=0,"SI","no"),"") | L33: =IF(A33<>"",IF(Portada!$C$13="Dias",Portada!$C$14+(G33-1),IF(Portada!$C$13="Semanas",Portada!$C$14+(G33-1)*7,EDATE(Portada!$C$14,(G33-1)))),"") | M33: =IF(A33<>"",IF(Portada!$C$13="Dias",Portada!$C$14+(H33)-1,IF(Portada!$C$13="Semanas",Portada!$C$14+(H33)*7-1,EDATE(Portada!$C$14,(H33))-1)),"") | N33: =IF(A33<>"",IF(COUNTIF($A$6:$A$45,A33)>1,"ID repetido",IF(AND(E33<>"",E33=A33),"Predec. = si misma",IF(AND(E33<>"",COUNTIF($A$6:$A$45,E33)=0),"Predec. no existe",IF(OR(D33="",D33<=0),"Falta duracion",IF(B33="","Falta nombre","OK"))))),"") | O33: =IF(A33<>"",IF(AND(1>=$G33,1<=$H33),IF(1<=$G33+ROUND($F33*$D33,0)-1,2,1),""),"") | P33: =IF(A33<>"",IF(AND(2>=$G33,2<=$H33),IF(2<=$G33+ROUND($F33*$D33,0)-1,2,1),""),"") | Q33: =IF(A33<>"",IF(AND(3>=$G33,3<=$H33),IF(3<=$G33+ROUND($F33*$D33,0)-1,2,1),""),"") | R33: =IF(A33<>"",IF(AND(4>=$G33,4<=$H33),IF(4<=$G33+ROUND($F33*$D33,0)-1,2,1),""),"") | S33: =IF(A33<>"",IF(AND(5>=$G33,5<=$H33),IF(5<=$G33+ROUND($F33*$D33,0)-1,2,1),""),"") | T33: =IF(A33<>"",IF(AND(6>=$G33,6<=$H33),IF(6<=$G33+ROUND($F33*$D33,0)-1,2,1),""),"") | U33: =IF(A33<>"",IF(AND(7>=$G33,7<=$H33),IF(7<=$G33+ROUND($F33*$D33,0)-1,2,1),""),"") | V33: =IF(A33<>"",IF(AND(8>=$G33,8<=$H33),IF(8<=$G33+ROUND($F33*$D33,0)-1,2,1),""),"") | W33: =IF(A33<>"",IF(AND(9>=$G33,9<=$H33),IF(9<=$G33+ROUND($F33*$D33,0)-1,2,1),""),"") | X33: =IF(A33<>"",IF(AND(10>=$G33,10<=$H33),IF(10<=$G33+ROUND($F33*$D33,0)-1,2,1),""),"") | Y33: =IF(A33<>"",IF(AND(11>=$G33,11<=$H33),IF(11<=$G33+ROUND($F33*$D33,0)-1,2,1),""),"") | Z33: =IF(A33<>"",IF(AND(12>=$G33,12<=$H33),IF(12<=$G33+ROUND($F33*$D33,0)-1,2,1),""),"") | AA33: =IF(A33<>"",IF(AND(13>=$G33,13<=$H33),IF(13<=$G33+ROUND($F33*$D33,0)-1,2,1),""),"") | AB33: =IF(A33<>"",IF(AND(14>=$G33,14<=$H33),IF(14<=$G33+ROUND($F33*$D33,0)-1,2,1),""),"") | AC33: =IF(A33<>"",IF(AND(15>=$G33,15<=$H33),IF(15<=$G33+ROUND($F33*$D33,0)-1,2,1),""),"") | AD33: =IF(A33<>"",IF(AND(16>=$G33,16<=$H33),IF(16<=$G33+ROUND($F33*$D33,0)-1,2,1),""),"") | AE33: =IF(A33<>"",IF(AND(17>=$G33,17<=$H33),IF(17<=$G33+ROUND($F33*$D33,0)-1,2,1),""),"") | AF33: =IF(A33<>"",IF(AND(18>=$G33,18<=$H33),IF(18<=$G33+ROUND($F33*$D33,0)-1,2,1),""),"") | AG33: =IF(A33<>"",IF(AND(19>=$G33,19<=$H33),IF(19<=$G33+ROUND($F33*$D33,0)-1,2,1),""),"") | AH33: =IF(A33<>"",IF(AND(20>=$G33,20<=$H33),IF(20<=$G33+ROUND($F33*$D33,0)-1,2,1),""),"") | AI33: =IF(A33<>"",IF(AND(21>=$G33,21<=$H33),IF(21<=$G33+ROUND($F33*$D33,0)-1,2,1),""),"") | AJ33: =IF(A33<>"",IF(AND(22>=$G33,22<=$H33),IF(22<=$G33+ROUND($F33*$D33,0)-1,2,1),""),"") | AK33: =IF(A33<>"",IF(AND(23>=$G33,23<=$H33),IF(23<=$G33+ROUND($F33*$D33,0)-1,2,1),""),"") | AL33: =IF(A33<>"",IF(AND(24>=$G33,24<=$H33),IF(24<=$G33+ROUND($F33*$D33,0)-1,2,1),""),"") | AM33: =IF(A33<>"",IF(AND(25>=$G33,25<=$H33),IF(25<=$G33+ROUND($F33*$D33,0)-1,2,1),""),"") | AN33: =IF(A33<>"",IF(AND(26>=$G33,26<=$H33),IF(26<=$G33+ROUND($F33*$D33,0)-1,2,1),""),"") | AO33: =IF(A33<>"",IF(AND(27>=$G33,27<=$H33),IF(27<=$G33+ROUND($F33*$D33,0)-1,2,1),""),"") | AP33: =IF(A33<>"",IF(AND(28>=$G33,28<=$H33),IF(28<=$G33+ROUND($F33*$D33,0)-1,2,1),""),"") | AQ33: =IF(A33<>"",IF(AND(29>=$G33,29<=$H33),IF(29<=$G33+ROUND($F33*$D33,0)-1,2,1),""),"") | AR33: =IF(A33<>"",IF(AND(30>=$G33,30<=$H33),IF(30<=$G33+ROUND($F33*$D33,0)-1,2,1),""),"")
G34: =IF(A34<>"",IF(E34="",1,IFERROR(INDEX($H$6:$H$45,MATCH(E34,$A$6:$A$45,0))+1,1)),"") | H34: =IF(A34<>"",G34+D34-1,"") | I34: {=IF(A34<>"",IF(COUNTIF($E$6:$E$45,A34)=0,MAX($H$6:$H$45),IFERROR(MIN(IF($E$6:$E$45=A34,($I$6:$I$45-$D$6:$D$45+1))),MAX($H$6:$H$45)+1)-1),"")} | J34: =IF(A34<>"",I34-H34,"") | K34: =IF(A34<>"",IF(J34=0,"SI","no"),"") | L34: =IF(A34<>"",IF(Portada!$C$13="Dias",Portada!$C$14+(G34-1),IF(Portada!$C$13="Semanas",Portada!$C$14+(G34-1)*7,EDATE(Portada!$C$14,(G34-1)))),"") | M34: =IF(A34<>"",IF(Portada!$C$13="Dias",Portada!$C$14+(H34)-1,IF(Portada!$C$13="Semanas",Portada!$C$14+(H34)*7-1,EDATE(Portada!$C$14,(H34))-1)),"") | N34: =IF(A34<>"",IF(COUNTIF($A$6:$A$45,A34)>1,"ID repetido",IF(AND(E34<>"",E34=A34),"Predec. = si misma",IF(AND(E34<>"",COUNTIF($A$6:$A$45,E34)=0),"Predec. no existe",IF(OR(D34="",D34<=0),"Falta duracion",IF(B34="","Falta nombre","OK"))))),"") | O34: =IF(A34<>"",IF(AND(1>=$G34,1<=$H34),IF(1<=$G34+ROUND($F34*$D34,0)-1,2,1),""),"") | P34: =IF(A34<>"",IF(AND(2>=$G34,2<=$H34),IF(2<=$G34+ROUND($F34*$D34,0)-1,2,1),""),"") | Q34: =IF(A34<>"",IF(AND(3>=$G34,3<=$H34),IF(3<=$G34+ROUND($F34*$D34,0)-1,2,1),""),"") | R34: =IF(A34<>"",IF(AND(4>=$G34,4<=$H34),IF(4<=$G34+ROUND($F34*$D34,0)-1,2,1),""),"") | S34: =IF(A34<>"",IF(AND(5>=$G34,5<=$H34),IF(5<=$G34+ROUND($F34*$D34,0)-1,2,1),""),"") | T34: =IF(A34<>"",IF(AND(6>=$G34,6<=$H34),IF(6<=$G34+ROUND($F34*$D34,0)-1,2,1),""),"") | U34: =IF(A34<>"",IF(AND(7>=$G34,7<=$H34),IF(7<=$G34+ROUND($F34*$D34,0)-1,2,1),""),"") | V34: =IF(A34<>"",IF(AND(8>=$G34,8<=$H34),IF(8<=$G34+ROUND($F34*$D34,0)-1,2,1),""),"") | W34: =IF(A34<>"",IF(AND(9>=$G34,9<=$H34),IF(9<=$G34+ROUND($F34*$D34,0)-1,2,1),""),"") | X34: =IF(A34<>"",IF(AND(10>=$G34,10<=$H34),IF(10<=$G34+ROUND($F34*$D34,0)-1,2,1),""),"") | Y34: =IF(A34<>"",IF(AND(11>=$G34,11<=$H34),IF(11<=$G34+ROUND($F34*$D34,0)-1,2,1),""),"") | Z34: =IF(A34<>"",IF(AND(12>=$G34,12<=$H34),IF(12<=$G34+ROUND($F34*$D34,0)-1,2,1),""),"") | AA34: =IF(A34<>"",IF(AND(13>=$G34,13<=$H34),IF(13<=$G34+ROUND($F34*$D34,0)-1,2,1),""),"") | AB34: =IF(A34<>"",IF(AND(14>=$G34,14<=$H34),IF(14<=$G34+ROUND($F34*$D34,0)-1,2,1),""),"") | AC34: =IF(A34<>"",IF(AND(15>=$G34,15<=$H34),IF(15<=$G34+ROUND($F34*$D34,0)-1,2,1),""),"") | AD34: =IF(A34<>"",IF(AND(16>=$G34,16<=$H34),IF(16<=$G34+ROUND($F34*$D34,0)-1,2,1),""),"") | AE34: =IF(A34<>"",IF(AND(17>=$G34,17<=$H34),IF(17<=$G34+ROUND($F34*$D34,0)-1,2,1),""),"") | AF34: =IF(A34<>"",IF(AND(18>=$G34,18<=$H34),IF(18<=$G34+ROUND($F34*$D34,0)-1,2,1),""),"") | AG34: =IF(A34<>"",IF(AND(19>=$G34,19<=$H34),IF(19<=$G34+ROUND($F34*$D34,0)-1,2,1),""),"") | AH34: =IF(A34<>"",IF(AND(20>=$G34,20<=$H34),IF(20<=$G34+ROUND($F34*$D34,0)-1,2,1),""),"") | AI34: =IF(A34<>"",IF(AND(21>=$G34,21<=$H34),IF(21<=$G34+ROUND($F34*$D34,0)-1,2,1),""),"") | AJ34: =IF(A34<>"",IF(AND(22>=$G34,22<=$H34),IF(22<=$G34+ROUND($F34*$D34,0)-1,2,1),""),"") | AK34: =IF(A34<>"",IF(AND(23>=$G34,23<=$H34),IF(23<=$G34+ROUND($F34*$D34,0)-1,2,1),""),"") | AL34: =IF(A34<>"",IF(AND(24>=$G34,24<=$H34),IF(24<=$G34+ROUND($F34*$D34,0)-1,2,1),""),"") | AM34: =IF(A34<>"",IF(AND(25>=$G34,25<=$H34),IF(25<=$G34+ROUND($F34*$D34,0)-1,2,1),""),"") | AN34: =IF(A34<>"",IF(AND(26>=$G34,26<=$H34),IF(26<=$G34+ROUND($F34*$D34,0)-1,2,1),""),"") | AO34: =IF(A34<>"",IF(AND(27>=$G34,27<=$H34),IF(27<=$G34+ROUND($F34*$D34,0)-1,2,1),""),"") | AP34: =IF(A34<>"",IF(AND(28>=$G34,28<=$H34),IF(28<=$G34+ROUND($F34*$D34,0)-1,2,1),""),"") | AQ34: =IF(A34<>"",IF(AND(29>=$G34,29<=$H34),IF(29<=$G34+ROUND($F34*$D34,0)-1,2,1),""),"") | AR34: =IF(A34<>"",IF(AND(30>=$G34,30<=$H34),IF(30<=$G34+ROUND($F34*$D34,0)-1,2,1),""),"")
G35: =IF(A35<>"",IF(E35="",1,IFERROR(INDEX($H$6:$H$45,MATCH(E35,$A$6:$A$45,0))+1,1)),"") | H35: =IF(A35<>"",G35+D35-1,"") | I35: {=IF(A35<>"",IF(COUNTIF($E$6:$E$45,A35)=0,MAX($H$6:$H$45),IFERROR(MIN(IF($E$6:$E$45=A35,($I$6:$I$45-$D$6:$D$45+1))),MAX($H$6:$H$45)+1)-1),"")} | J35: =IF(A35<>"",I35-H35,"") | K35: =IF(A35<>"",IF(J35=0,"SI","no"),"") | L35: =IF(A35<>"",IF(Portada!$C$13="Dias",Portada!$C$14+(G35-1),IF(Portada!$C$13="Semanas",Portada!$C$14+(G35-1)*7,EDATE(Portada!$C$14,(G35-1)))),"") | M35: =IF(A35<>"",IF(Portada!$C$13="Dias",Portada!$C$14+(H35)-1,IF(Portada!$C$13="Semanas",Portada!$C$14+(H35)*7-1,EDATE(Portada!$C$14,(H35))-1)),"") | N35: =IF(A35<>"",IF(COUNTIF($A$6:$A$45,A35)>1,"ID repetido",IF(AND(E35<>"",E35=A35),"Predec. = si misma",IF(AND(E35<>"",COUNTIF($A$6:$A$45,E35)=0),"Predec. no existe",IF(OR(D35="",D35<=0),"Falta duracion",IF(B35="","Falta nombre","OK"))))),"") | O35: =IF(A35<>"",IF(AND(1>=$G35,1<=$H35),IF(1<=$G35+ROUND($F35*$D35,0)-1,2,1),""),"") | P35: =IF(A35<>"",IF(AND(2>=$G35,2<=$H35),IF(2<=$G35+ROUND($F35*$D35,0)-1,2,1),""),"") | Q35: =IF(A35<>"",IF(AND(3>=$G35,3<=$H35),IF(3<=$G35+ROUND($F35*$D35,0)-1,2,1),""),"") | R35: =IF(A35<>"",IF(AND(4>=$G35,4<=$H35),IF(4<=$G35+ROUND($F35*$D35,0)-1,2,1),""),"") | S35: =IF(A35<>"",IF(AND(5>=$G35,5<=$H35),IF(5<=$G35+ROUND($F35*$D35,0)-1,2,1),""),"") | T35: =IF(A35<>"",IF(AND(6>=$G35,6<=$H35),IF(6<=$G35+ROUND($F35*$D35,0)-1,2,1),""),"") | U35: =IF(A35<>"",IF(AND(7>=$G35,7<=$H35),IF(7<=$G35+ROUND($F35*$D35,0)-1,2,1),""),"") | V35: =IF(A35<>"",IF(AND(8>=$G35,8<=$H35),IF(8<=$G35+ROUND($F35*$D35,0)-1,2,1),""),"") | W35: =IF(A35<>"",IF(AND(9>=$G35,9<=$H35),IF(9<=$G35+ROUND($F35*$D35,0)-1,2,1),""),"") | X35: =IF(A35<>"",IF(AND(10>=$G35,10<=$H35),IF(10<=$G35+ROUND($F35*$D35,0)-1,2,1),""),"") | Y35: =IF(A35<>"",IF(AND(11>=$G35,11<=$H35),IF(11<=$G35+ROUND($F35*$D35,0)-1,2,1),""),"") | Z35: =IF(A35<>"",IF(AND(12>=$G35,12<=$H35),IF(12<=$G35+ROUND($F35*$D35,0)-1,2,1),""),"") | AA35: =IF(A35<>"",IF(AND(13>=$G35,13<=$H35),IF(13<=$G35+ROUND($F35*$D35,0)-1,2,1),""),"") | AB35: =IF(A35<>"",IF(AND(14>=$G35,14<=$H35),IF(14<=$G35+ROUND($F35*$D35,0)-1,2,1),""),"") | AC35: =IF(A35<>"",IF(AND(15>=$G35,15<=$H35),IF(15<=$G35+ROUND($F35*$D35,0)-1,2,1),""),"") | AD35: =IF(A35<>"",IF(AND(16>=$G35,16<=$H35),IF(16<=$G35+ROUND($F35*$D35,0)-1,2,1),""),"") | AE35: =IF(A35<>"",IF(AND(17>=$G35,17<=$H35),IF(17<=$G35+ROUND($F35*$D35,0)-1,2,1),""),"") | AF35: =IF(A35<>"",IF(AND(18>=$G35,18<=$H35),IF(18<=$G35+ROUND($F35*$D35,0)-1,2,1),""),"") | AG35: =IF(A35<>"",IF(AND(19>=$G35,19<=$H35),IF(19<=$G35+ROUND($F35*$D35,0)-1,2,1),""),"") | AH35: =IF(A35<>"",IF(AND(20>=$G35,20<=$H35),IF(20<=$G35+ROUND($F35*$D35,0)-1,2,1),""),"") | AI35: =IF(A35<>"",IF(AND(21>=$G35,21<=$H35),IF(21<=$G35+ROUND($F35*$D35,0)-1,2,1),""),"") | AJ35: =IF(A35<>"",IF(AND(22>=$G35,22<=$H35),IF(22<=$G35+ROUND($F35*$D35,0)-1,2,1),""),"") | AK35: =IF(A35<>"",IF(AND(23>=$G35,23<=$H35),IF(23<=$G35+ROUND($F35*$D35,0)-1,2,1),""),"") | AL35: =IF(A35<>"",IF(AND(24>=$G35,24<=$H35),IF(24<=$G35+ROUND($F35*$D35,0)-1,2,1),""),"") | AM35: =IF(A35<>"",IF(AND(25>=$G35,25<=$H35),IF(25<=$G35+ROUND($F35*$D35,0)-1,2,1),""),"") | AN35: =IF(A35<>"",IF(AND(26>=$G35,26<=$H35),IF(26<=$G35+ROUND($F35*$D35,0)-1,2,1),""),"") | AO35: =IF(A35<>"",IF(AND(27>=$G35,27<=$H35),IF(27<=$G35+ROUND($F35*$D35,0)-1,2,1),""),"") | AP35: =IF(A35<>"",IF(AND(28>=$G35,28<=$H35),IF(28<=$G35+ROUND($F35*$D35,0)-1,2,1),""),"") | AQ35: =IF(A35<>"",IF(AND(29>=$G35,29<=$H35),IF(29<=$G35+ROUND($F35*$D35,0)-1,2,1),""),"") | AR35: =IF(A35<>"",IF(AND(30>=$G35,30<=$H35),IF(30<=$G35+ROUND($F35*$D35,0)-1,2,1),""),"")
G36: =IF(A36<>"",IF(E36="",1,IFERROR(INDEX($H$6:$H$45,MATCH(E36,$A$6:$A$45,0))+1,1)),"") | H36: =IF(A36<>"",G36+D36-1,"") | I36: {=IF(A36<>"",IF(COUNTIF($E$6:$E$45,A36)=0,MAX($H$6:$H$45),IFERROR(MIN(IF($E$6:$E$45=A36,($I$6:$I$45-$D$6:$D$45+1))),MAX($H$6:$H$45)+1)-1),"")} | J36: =IF(A36<>"",I36-H36,"") | K36: =IF(A36<>"",IF(J36=0,"SI","no"),"") | L36: =IF(A36<>"",IF(Portada!$C$13="Dias",Portada!$C$14+(G36-1),IF(Portada!$C$13="Semanas",Portada!$C$14+(G36-1)*7,EDATE(Portada!$C$14,(G36-1)))),"") | M36: =IF(A36<>"",IF(Portada!$C$13="Dias",Portada!$C$14+(H36)-1,IF(Portada!$C$13="Semanas",Portada!$C$14+(H36)*7-1,EDATE(Portada!$C$14,(H36))-1)),"") | N36: =IF(A36<>"",IF(COUNTIF($A$6:$A$45,A36)>1,"ID repetido",IF(AND(E36<>"",E36=A36),"Predec. = si misma",IF(AND(E36<>"",COUNTIF($A$6:$A$45,E36)=0),"Predec. no existe",IF(OR(D36="",D36<=0),"Falta duracion",IF(B36="","Falta nombre","OK"))))),"") | O36: =IF(A36<>"",IF(AND(1>=$G36,1<=$H36),IF(1<=$G36+ROUND($F36*$D36,0)-1,2,1),""),"") | P36: =IF(A36<>"",IF(AND(2>=$G36,2<=$H36),IF(2<=$G36+ROUND($F36*$D36,0)-1,2,1),""),"") | Q36: =IF(A36<>"",IF(AND(3>=$G36,3<=$H36),IF(3<=$G36+ROUND($F36*$D36,0)-1,2,1),""),"") | R36: =IF(A36<>"",IF(AND(4>=$G36,4<=$H36),IF(4<=$G36+ROUND($F36*$D36,0)-1,2,1),""),"") | S36: =IF(A36<>"",IF(AND(5>=$G36,5<=$H36),IF(5<=$G36+ROUND($F36*$D36,0)-1,2,1),""),"") | T36: =IF(A36<>"",IF(AND(6>=$G36,6<=$H36),IF(6<=$G36+ROUND($F36*$D36,0)-1,2,1),""),"") | U36: =IF(A36<>"",IF(AND(7>=$G36,7<=$H36),IF(7<=$G36+ROUND($F36*$D36,0)-1,2,1),""),"") | V36: =IF(A36<>"",IF(AND(8>=$G36,8<=$H36),IF(8<=$G36+ROUND($F36*$D36,0)-1,2,1),""),"") | W36: =IF(A36<>"",IF(AND(9>=$G36,9<=$H36),IF(9<=$G36+ROUND($F36*$D36,0)-1,2,1),""),"") | X36: =IF(A36<>"",IF(AND(10>=$G36,10<=$H36),IF(10<=$G36+ROUND($F36*$D36,0)-1,2,1),""),"") | Y36: =IF(A36<>"",IF(AND(11>=$G36,11<=$H36),IF(11<=$G36+ROUND($F36*$D36,0)-1,2,1),""),"") | Z36: =IF(A36<>"",IF(AND(12>=$G36,12<=$H36),IF(12<=$G36+ROUND($F36*$D36,0)-1,2,1),""),"") | AA36: =IF(A36<>"",IF(AND(13>=$G36,13<=$H36),IF(13<=$G36+ROUND($F36*$D36,0)-1,2,1),""),"") | AB36: =IF(A36<>"",IF(AND(14>=$G36,14<=$H36),IF(14<=$G36+ROUND($F36*$D36,0)-1,2,1),""),"") | AC36: =IF(A36<>"",IF(AND(15>=$G36,15<=$H36),IF(15<=$G36+ROUND($F36*$D36,0)-1,2,1),""),"") | AD36: =IF(A36<>"",IF(AND(16>=$G36,16<=$H36),IF(16<=$G36+ROUND($F36*$D36,0)-1,2,1),""),"") | AE36: =IF(A36<>"",IF(AND(17>=$G36,17<=$H36),IF(17<=$G36+ROUND($F36*$D36,0)-1,2,1),""),"") | AF36: =IF(A36<>"",IF(AND(18>=$G36,18<=$H36),IF(18<=$G36+ROUND($F36*$D36,0)-1,2,1),""),"") | AG36: =IF(A36<>"",IF(AND(19>=$G36,19<=$H36),IF(19<=$G36+ROUND($F36*$D36,0)-1,2,1),""),"") | AH36: =IF(A36<>"",IF(AND(20>=$G36,20<=$H36),IF(20<=$G36+ROUND($F36*$D36,0)-1,2,1),""),"") | AI36: =IF(A36<>"",IF(AND(21>=$G36,21<=$H36),IF(21<=$G36+ROUND($F36*$D36,0)-1,2,1),""),"") | AJ36: =IF(A36<>"",IF(AND(22>=$G36,22<=$H36),IF(22<=$G36+ROUND($F36*$D36,0)-1,2,1),""),"") | AK36: =IF(A36<>"",IF(AND(23>=$G36,23<=$H36),IF(23<=$G36+ROUND($F36*$D36,0)-1,2,1),""),"") | AL36: =IF(A36<>"",IF(AND(24>=$G36,24<=$H36),IF(24<=$G36+ROUND($F36*$D36,0)-1,2,1),""),"") | AM36: =IF(A36<>"",IF(AND(25>=$G36,25<=$H36),IF(25<=$G36+ROUND($F36*$D36,0)-1,2,1),""),"") | AN36: =IF(A36<>"",IF(AND(26>=$G36,26<=$H36),IF(26<=$G36+ROUND($F36*$D36,0)-1,2,1),""),"") | AO36: =IF(A36<>"",IF(AND(27>=$G36,27<=$H36),IF(27<=$G36+ROUND($F36*$D36,0)-1,2,1),""),"") | AP36: =IF(A36<>"",IF(AND(28>=$G36,28<=$H36),IF(28<=$G36+ROUND($F36*$D36,0)-1,2,1),""),"") | AQ36: =IF(A36<>"",IF(AND(29>=$G36,29<=$H36),IF(29<=$G36+ROUND($F36*$D36,0)-1,2,1),""),"") | AR36: =IF(A36<>"",IF(AND(30>=$G36,30<=$H36),IF(30<=$G36+ROUND($F36*$D36,0)-1,2,1),""),"")
... G45: =IF(A45<>"",IF(E45="",1,IFERROR(INDEX($H$6:$H$45,MATCH(E45,$A$6:$A$45,0))+1,1)),"") | H45: =IF(A45<>"",G45+D45-1,"") | I45: {=IF(A45<>"",IF(COUNTIF($E$6:$E$45,A45)=0,MAX($H$6:$H$45),IFERROR(MIN(IF($E$6:$E$45=A45,($I$6:$I$45-$D$6:$D$45+1))),MAX($H$6:$H$45)+1)-1),"")} | J45: =IF(A45<>"",I45-H45,"") | K45: =IF(A45<>"",IF(J45=0,"SI","no"),"") | L45: =IF(A45<>"",IF(Portada!$C$13="Dias",Portada!$C$14+(G45-1),IF(Portada!$C$13="Semanas",Portada!$C$14+(G45-1)*7,EDATE(Portada!$C$14,(G45-1)))),"") | M45: =IF(A45<>"",IF(Portada!$C$13="Dias",Portada!$C$14+(H45)-1,IF(Portada!$C$13="Semanas",Portada!$C$14+(H45)*7-1,EDATE(Portada!$C$14,(H45))-1)),"") | N45: =IF(A45<>"",IF(COUNTIF($A$6:$A$45,A45)>1,"ID repetido",IF(AND(E45<>"",E45=A45),"Predec. = si misma",IF(AND(E45<>"",COUNTIF($A$6:$A$45,E45)=0),"Predec. no existe",IF(OR(D45="",D45<=0),"Falta duracion",IF(B45="","Falta nombre","OK"))))),"") | O45: =IF(A45<>"",IF(AND(1>=$G45,1<=$H45),IF(1<=$G45+ROUND($F45*$D45,0)-1,2,1),""),"") | P45: =IF(A45<>"",IF(AND(2>=$G45,2<=$H45),IF(2<=$G45+ROUND($F45*$D45,0)-1,2,1),""),"") | Q45: =IF(A45<>"",IF(AND(3>=$G45,3<=$H45),IF(3<=$G45+ROUND($F45*$D45,0)-1,2,1),""),"") | R45: =IF(A45<>"",IF(AND(4>=$G45,4<=$H45),IF(4<=$G45+ROUND($F45*$D45,0)-1,2,1),""),"") | S45: =IF(A45<>"",IF(AND(5>=$G45,5<=$H45),IF(5<=$G45+ROUND($F45*$D45,0)-1,2,1),""),"") | T45: =IF(A45<>"",IF(AND(6>=$G45,6<=$H45),IF(6<=$G45+ROUND($F45*$D45,0)-1,2,1),""),"") | U45: =IF(A45<>"",IF(AND(7>=$G45,7<=$H45),IF(7<=$G45+ROUND($F45*$D45,0)-1,2,1),""),"") | V45: =IF(A45<>"",IF(AND(8>=$G45,8<=$H45),IF(8<=$G45+ROUND($F45*$D45,0)-1,2,1),""),"") | W45: =IF(A45<>"",IF(AND(9>=$G45,9<=$H45),IF(9<=$G45+ROUND($F45*$D45,0)-1,2,1),""),"") | X45: =IF(A45<>"",IF(AND(10>=$G45,10<=$H45),IF(10<=$G45+ROUND($F45*$D45,0)-1,2,1),""),"") | Y45: =IF(A45<>"",IF(AND(11>=$G45,11<=$H45),IF(11<=$G45+ROUND($F45*$D45,0)-1,2,1),""),"") | Z45: =IF(A45<>"",IF(AND(12>=$G45,12<=$H45),IF(12<=$G45+ROUND($F45*$D45,0)-1,2,1),""),"") | AA45: =IF(A45<>"",IF(AND(13>=$G45,13<=$H45),IF(13<=$G45+ROUND($F45*$D45,0)-1,2,1),""),"") | AB45: =IF(A45<>"",IF(AND(14>=$G45,14<=$H45),IF(14<=$G45+ROUND($F45*$D45,0)-1,2,1),""),"") | AC45: =IF(A45<>"",IF(AND(15>=$G45,15<=$H45),IF(15<=$G45+ROUND($F45*$D45,0)-1,2,1),""),"") | AD45: =IF(A45<>"",IF(AND(16>=$G45,16<=$H45),IF(16<=$G45+ROUND($F45*$D45,0)-1,2,1),""),"") | AE45: =IF(A45<>"",IF(AND(17>=$G45,17<=$H45),IF(17<=$G45+ROUND($F45*$D45,0)-1,2,1),""),"") | AF45: =IF(A45<>"",IF(AND(18>=$G45,18<=$H45),IF(18<=$G45+ROUND($F45*$D45,0)-1,2,1),""),"") | AG45: =IF(A45<>"",IF(AND(19>=$G45,19<=$H45),IF(19<=$G45+ROUND($F45*$D45,0)-1,2,1),""),"") | AH45: =IF(A45<>"",IF(AND(20>=$G45,20<=$H45),IF(20<=$G45+ROUND($F45*$D45,0)-1,2,1),""),"") | AI45: =IF(A45<>"",IF(AND(21>=$G45,21<=$H45),IF(21<=$G45+ROUND($F45*$D45,0)-1,2,1),""),"") | AJ45: =IF(A45<>"",IF(AND(22>=$G45,22<=$H45),IF(22<=$G45+ROUND($F45*$D45,0)-1,2,1),""),"") | AK45: =IF(A45<>"",IF(AND(23>=$G45,23<=$H45),IF(23<=$G45+ROUND($F45*$D45,0)-1,2,1),""),"") | AL45: =IF(A45<>"",IF(AND(24>=$G45,24<=$H45),IF(24<=$G45+ROUND($F45*$D45,0)-1,2,1),""),"") | AM45: =IF(A45<>"",IF(AND(25>=$G45,25<=$H45),IF(25<=$G45+ROUND($F45*$D45,0)-1,2,1),""),"") | AN45: =IF(A45<>"",IF(AND(26>=$G45,26<=$H45),IF(26<=$G45+ROUND($F45*$D45,0)-1,2,1),""),"") | AO45: =IF(A45<>"",IF(AND(27>=$G45,27<=$H45),IF(27<=$G45+ROUND($F45*$D45,0)-1,2,1),""),"") | AP45: =IF(A45<>"",IF(AND(28>=$G45,28<=$H45),IF(28<=$G45+ROUND($F45*$D45,0)-1,2,1),""),"") | AQ45: =IF(A45<>"",IF(AND(29>=$G45,29<=$H45),IF(29<=$G45+ROUND($F45*$D45,0)-1,2,1),""),"") | AR45: =IF(A45<>"",IF(AND(30>=$G45,30<=$H45),IF(30<=$G45+ROUND($F45*$D45,0)-1,2,1),""),"")
A46: DURACION TOTAL DE LA OBRA | H46: =IFERROR(MAX($H$6:$H$45),0) -> 23
A47: PERIODO ACTUAL (hoy) | H47: =IFERROR(MAX(0,IF(Portada!$C$13="Dias",(Portada!$C$15-Portada!$C$14)+1,IF(Portada!$C$13="Semanas",INT((Portada!$C$15-Portada!$C$14)/7)+1,(DATEDIF(Portada!$C$14,Portada!$C$15,"m"))+1))),0) -> 0

Sheet Resumen por Fase
A1: CALCULA OBRA CHILE | PLANIFICACION Y CRONOGRAMA DE OBRA
A2: RESUMEN POR FASE
A3: Suma automatica de tareas y duracion por fase, y avance promedio ponderado. Se actualiza solo con lo que escribas en la hoja Cronograma.
A5: FASE | B5: N TAREAS | C5: DURACION TOTAL | D5: AVANCE PROMEDIO
A6: Preliminares | B6: =COUNTIF(Cronograma!$C$6:$C$45,A6) -> 2 | C6: =SUMIF(Cronograma!$C$6:$C$45,A6,Cronograma!$D$6:$D$45) -> 2 | D6: =IFERROR(SUMPRODUCT((Cronograma!$C$6:$C$45=A6)*Cronograma!$D$6:$D$45*Cronograma!$F$6:$F$45)/SUMIF(Cronograma!$C$6:$C$45,A6,Cronograma!$D$6:$D$45),0) -> 1
A7: Obra Gruesa | B7: =COUNTIF(Cronograma!$C$6:$C$45,A7) -> 8 | C7: =SUMIF(Cronograma!$C$6:$C$45,A7,Cronograma!$D$6:$D$45) -> 12 | D7: =IFERROR(SUMPRODUCT((Cronograma!$C$6:$C$45=A7)*Cronograma!$D$6:$D$45*Cronograma!$F$6:$F$45)/SUMIF(Cronograma!$C$6:$C$45,A7,Cronograma!$D$6:$D$45),0) -> 0.16666667
A8: Instalaciones | B8: =COUNTIF(Cronograma!$C$6:$C$45,A8) -> 3 | C8: =SUMIF(Cronograma!$C$6:$C$45,A8,Cronograma!$D$6:$D$45) -> 5 | D8: =IFERROR(SUMPRODUCT((Cronograma!$C$6:$C$45=A8)*Cronograma!$D$6:$D$45*Cronograma!$F$6:$F$45)/SUMIF(Cronograma!$C$6:$C$45,A8,Cronograma!$D$6:$D$45),0) -> 0
A9: Terminaciones | B9: =COUNTIF(Cronograma!$C$6:$C$45,A9) -> 5 | C9: =SUMIF(Cronograma!$C$6:$C$45,A9,Cronograma!$D$6:$D$45) -> 9 | D9: =IFERROR(SUMPRODUCT((Cronograma!$C$6:$C$45=A9)*Cronograma!$D$6:$D$45*Cronograma!$F$6:$F$45)/SUMIF(Cronograma!$C$6:$C$45,A9,Cronograma!$D$6:$D$45),0) -> 0
A10: Entrega | B10: =COUNTIF(Cronograma!$C$6:$C$45,A10) -> 1 | C10: =SUMIF(Cronograma!$C$6:$C$45,A10,Cronograma!$D$6:$D$45) -> 1 | D10: =IFERROR(SUMPRODUCT((Cronograma!$C$6:$C$45=A10)*Cronograma!$D$6:$D$45*Cronograma!$F$6:$F$45)/SUMIF(Cronograma!$C$6:$C$45,A10,Cronograma!$D$6:$D$45),0) -> 0
A11: TOTAL | B11: =SUM(B6:B10) -> 19 | C11: =SUM(C6:C10) -> 29 | D11: =IFERROR(SUMPRODUCT(Cronograma!$D$6:$D$45*Cronograma!$F$6:$F$45)/SUM(Cronograma!$D$6:$D$45),0) -> 0.13793103
A13: Nota: la fase debe escribirse igual en la hoja Cronograma para que sume aqui.
